BEGIN:VCALENDAR
VERSION:2.0
PRODID:-//Universum Gym - ECPv6.2.8.1//NONSGML v1.0//EN
CALSCALE:GREGORIAN
METHOD:PUBLISH
X-ORIGINAL-URL:https://www.universum-gym.com
X-WR-CALDESC:Veranstaltungen für Universum Gym
REFRESH-INTERVAL;VALUE=DURATION:PT1H
X-Robots-Tag:noindex
X-PUBLISHED-TTL:PT1H
BEGIN:VTIMEZONE
TZID:Europe/Berlin
BEGIN:DAYLIGHT
TZOFFSETFROM:+0100
TZOFFSETTO:+0200
TZNAME:CEST
DTSTART:20260329T010000
END:DAYLIGHT
BEGIN:STANDARD
TZOFFSETFROM:+0200
TZOFFSETTO:+0100
TZNAME:CET
DTSTART:20261025T010000
END:STANDARD
END:VTIMEZONE
BEGIN:VEVENT
DTSTART;TZID=Europe/Berlin:20261019T170000
DTEND;TZID=Europe/Berlin:20261019T180000
DTSTAMP:20260425T223721
CREATED:20230927T065500Z
LAST-MODIFIED:20230927T071151Z
UID:10000166-1792429200-1792432800@www.universum-gym.com
SUMMARY:Kinder Boxen
DESCRIPTION:“Anfänger”
URL:https://www.universum-gym.com/event/kinder-boxen-anfaenger/2026-10-19/
CATEGORIES:Boxing
END:VEVENT
BEGIN:VEVENT
DTSTART;TZID=Europe/Berlin:20261019T180000
DTEND;TZID=Europe/Berlin:20261019T190000
DTSTAMP:20260425T223721
CREATED:20231105T120154Z
LAST-MODIFIED:20231105T120627Z
UID:10005444-1792432800-1792436400@www.universum-gym.com
SUMMARY:Männer Fitness Boxen
DESCRIPTION:
URL:https://www.universum-gym.com/event/fitness-boxen-3/2026-10-19/
CATEGORIES:Boxing
END:VEVENT
BEGIN:VEVENT
DTSTART;TZID=Europe/Berlin:20261019T190000
DTEND;TZID=Europe/Berlin:20261019T200000
DTSTAMP:20260425T223721
CREATED:20231105T121224Z
LAST-MODIFIED:20231105T121346Z
UID:10006402-1792436400-1792440000@www.universum-gym.com
SUMMARY:Frauen Boxen
DESCRIPTION:
URL:https://www.universum-gym.com/event/frauen-boxen-2/2026-10-19/
CATEGORIES:Boxing
END:VEVENT
BEGIN:VEVENT
DTSTART;TZID=Europe/Berlin:20261020T170000
DTEND;TZID=Europe/Berlin:20261020T180000
DTSTAMP:20260425T223721
CREATED:20230927T071439Z
LAST-MODIFIED:20231105T115531Z
UID:10001215-1792515600-1792519200@www.universum-gym.com
SUMMARY:Amateur Boxen
DESCRIPTION:Wettkämpfer
URL:https://www.universum-gym.com/event/amateur-boxen-jugendliche-und-elite-2/2026-10-20/
CATEGORIES:Boxing
END:VEVENT
BEGIN:VEVENT
DTSTART;TZID=Europe/Berlin:20261020T180000
DTEND;TZID=Europe/Berlin:20261020T190000
DTSTAMP:20260425T223721
CREATED:20231105T121524Z
LAST-MODIFIED:20231105T121844Z
UID:10006926-1792519200-1792522800@www.universum-gym.com
SUMMARY:Boxen Technik/Taktik Training
DESCRIPTION:
URL:https://www.universum-gym.com/event/boxen-technik-taktik-training/2026-10-20/
CATEGORIES:Boxing
END:VEVENT
BEGIN:VEVENT
DTSTART;TZID=Europe/Berlin:20261021T170000
DTEND;TZID=Europe/Berlin:20261021T180000
DTSTAMP:20260425T223721
CREATED:20230927T065500Z
LAST-MODIFIED:20230927T071151Z
UID:10001740-1792602000-1792605600@www.universum-gym.com
SUMMARY:Kinder Boxen
DESCRIPTION:“Anfänger”
URL:https://www.universum-gym.com/event/kinder-boxen-anfaenger/2026-10-21/
CATEGORIES:Boxing
END:VEVENT
BEGIN:VEVENT
DTSTART;TZID=Europe/Berlin:20261021T180000
DTEND;TZID=Europe/Berlin:20261021T190000
DTSTAMP:20260425T223721
CREATED:20231105T120154Z
LAST-MODIFIED:20231105T120627Z
UID:10005171-1792605600-1792609200@www.universum-gym.com
SUMMARY:Männer Fitness Boxen
DESCRIPTION:
URL:https://www.universum-gym.com/event/fitness-boxen-3/2026-10-21/
CATEGORIES:Boxing
END:VEVENT
BEGIN:VEVENT
DTSTART;TZID=Europe/Berlin:20261021T190000
DTEND;TZID=Europe/Berlin:20261021T200000
DTSTAMP:20260425T223721
CREATED:20231105T121224Z
LAST-MODIFIED:20231105T121346Z
UID:10006403-1792609200-1792612800@www.universum-gym.com
SUMMARY:Frauen Boxen
DESCRIPTION:
URL:https://www.universum-gym.com/event/frauen-boxen-2/2026-10-21/
CATEGORIES:Boxing
END:VEVENT
BEGIN:VEVENT
DTSTART;TZID=Europe/Berlin:20261022T170000
DTEND;TZID=Europe/Berlin:20261022T180000
DTSTAMP:20260425T223721
CREATED:20230927T071439Z
LAST-MODIFIED:20231105T115531Z
UID:10002789-1792688400-1792692000@www.universum-gym.com
SUMMARY:Amateur Boxen
DESCRIPTION:Wettkämpfer
URL:https://www.universum-gym.com/event/amateur-boxen-jugendliche-und-elite-2/2026-10-22/
CATEGORIES:Boxing
END:VEVENT
BEGIN:VEVENT
DTSTART;TZID=Europe/Berlin:20261022T180000
DTEND;TZID=Europe/Berlin:20261022T190000
DTSTAMP:20260425T223721
CREATED:20231105T121524Z
LAST-MODIFIED:20231105T121844Z
UID:10006927-1792692000-1792695600@www.universum-gym.com
SUMMARY:Boxen Technik/Taktik Training
DESCRIPTION:
URL:https://www.universum-gym.com/event/boxen-technik-taktik-training/2026-10-22/
CATEGORIES:Boxing
END:VEVENT
BEGIN:VEVENT
DTSTART;TZID=Europe/Berlin:20261023T170000
DTEND;TZID=Europe/Berlin:20261023T180000
DTSTAMP:20260425T223721
CREATED:20231105T121647Z
LAST-MODIFIED:20231105T121647Z
UID:10007295-1792774800-1792778400@www.universum-gym.com
SUMMARY:Männer Zirkeltraining
DESCRIPTION:
URL:https://www.universum-gym.com/event/maenner-zirkeltraining/2026-10-23/
CATEGORIES:Kurse
END:VEVENT
BEGIN:VEVENT
DTSTART;TZID=Europe/Berlin:20261023T180000
DTEND;TZID=Europe/Berlin:20261023T190000
DTSTAMP:20260425T223721
CREATED:20231105T121747Z
LAST-MODIFIED:20231105T121747Z
UID:10007557-1792778400-1792782000@www.universum-gym.com
SUMMARY:Frauen Zirkeltraining
DESCRIPTION:
URL:https://www.universum-gym.com/event/frauen-zirkeltraining/2026-10-23/
CATEGORIES:Kurse
END:VEVENT
BEGIN:VEVENT
DTSTART;TZID=Europe/Berlin:20261024T103000
DTEND;TZID=Europe/Berlin:20261024T113000
DTSTAMP:20260425T223721
CREATED:20230927T071831Z
LAST-MODIFIED:20230927T071831Z
UID:10004355-1792837800-1792841400@www.universum-gym.com
SUMMARY:Amateur Boxen / Sparring
DESCRIPTION:
URL:https://www.universum-gym.com/event/amateur-boxen-sparring/2026-10-24/
CATEGORIES:Boxing
END:VEVENT
END:VCALENDAR