BEGIN:VCALENDAR
VERSION:2.0
PRODID:-//Universum Gym - ECPv6.2.8.1//NONSGML v1.0//EN
CALSCALE:GREGORIAN
METHOD:PUBLISH
X-ORIGINAL-URL:https://www.universum-gym.com
X-WR-CALDESC:Veranstaltungen für Universum Gym
REFRESH-INTERVAL;VALUE=DURATION:PT1H
X-Robots-Tag:noindex
X-PUBLISHED-TTL:PT1H
BEGIN:VTIMEZONE
TZID:Europe/Berlin
BEGIN:DAYLIGHT
TZOFFSETFROM:+0100
TZOFFSETTO:+0200
TZNAME:CEST
DTSTART:20260329T010000
END:DAYLIGHT
BEGIN:STANDARD
TZOFFSETFROM:+0200
TZOFFSETTO:+0100
TZNAME:CET
DTSTART:20261025T010000
END:STANDARD
END:VTIMEZONE
BEGIN:VEVENT
DTSTART;TZID=Europe/Berlin:20261012T170000
DTEND;TZID=Europe/Berlin:20261012T180000
DTSTAMP:20260425T170153
CREATED:20230927T065500Z
LAST-MODIFIED:20230927T071151Z
UID:10000165-1791824400-1791828000@www.universum-gym.com
SUMMARY:Kinder Boxen
DESCRIPTION:“Anfänger”
URL:https://www.universum-gym.com/event/kinder-boxen-anfaenger/2026-10-12/
CATEGORIES:Boxing
END:VEVENT
BEGIN:VEVENT
DTSTART;TZID=Europe/Berlin:20261012T180000
DTEND;TZID=Europe/Berlin:20261012T190000
DTSTAMP:20260425T170153
CREATED:20231105T120154Z
LAST-MODIFIED:20231105T120627Z
UID:10005443-1791828000-1791831600@www.universum-gym.com
SUMMARY:Männer Fitness Boxen
DESCRIPTION:
URL:https://www.universum-gym.com/event/fitness-boxen-3/2026-10-12/
CATEGORIES:Boxing
END:VEVENT
BEGIN:VEVENT
DTSTART;TZID=Europe/Berlin:20261012T190000
DTEND;TZID=Europe/Berlin:20261012T200000
DTSTAMP:20260425T170153
CREATED:20231105T121224Z
LAST-MODIFIED:20231105T121346Z
UID:10006400-1791831600-1791835200@www.universum-gym.com
SUMMARY:Frauen Boxen
DESCRIPTION:
URL:https://www.universum-gym.com/event/frauen-boxen-2/2026-10-12/
CATEGORIES:Boxing
END:VEVENT
BEGIN:VEVENT
DTSTART;TZID=Europe/Berlin:20261013T170000
DTEND;TZID=Europe/Berlin:20261013T180000
DTSTAMP:20260425T170153
CREATED:20230927T071439Z
LAST-MODIFIED:20231105T115531Z
UID:10001214-1791910800-1791914400@www.universum-gym.com
SUMMARY:Amateur Boxen
DESCRIPTION:Wettkämpfer
URL:https://www.universum-gym.com/event/amateur-boxen-jugendliche-und-elite-2/2026-10-13/
CATEGORIES:Boxing
END:VEVENT
BEGIN:VEVENT
DTSTART;TZID=Europe/Berlin:20261013T180000
DTEND;TZID=Europe/Berlin:20261013T190000
DTSTAMP:20260425T170153
CREATED:20231105T121524Z
LAST-MODIFIED:20231105T121844Z
UID:10006924-1791914400-1791918000@www.universum-gym.com
SUMMARY:Boxen Technik/Taktik Training
DESCRIPTION:
URL:https://www.universum-gym.com/event/boxen-technik-taktik-training/2026-10-13/
CATEGORIES:Boxing
END:VEVENT
BEGIN:VEVENT
DTSTART;TZID=Europe/Berlin:20261014T170000
DTEND;TZID=Europe/Berlin:20261014T180000
DTSTAMP:20260425T170153
CREATED:20230927T065500Z
LAST-MODIFIED:20230927T071151Z
UID:10001739-1791997200-1792000800@www.universum-gym.com
SUMMARY:Kinder Boxen
DESCRIPTION:“Anfänger”
URL:https://www.universum-gym.com/event/kinder-boxen-anfaenger/2026-10-14/
CATEGORIES:Boxing
END:VEVENT
BEGIN:VEVENT
DTSTART;TZID=Europe/Berlin:20261014T180000
DTEND;TZID=Europe/Berlin:20261014T190000
DTSTAMP:20260425T170153
CREATED:20231105T120154Z
LAST-MODIFIED:20231105T120627Z
UID:10005170-1792000800-1792004400@www.universum-gym.com
SUMMARY:Männer Fitness Boxen
DESCRIPTION:
URL:https://www.universum-gym.com/event/fitness-boxen-3/2026-10-14/
CATEGORIES:Boxing
END:VEVENT
BEGIN:VEVENT
DTSTART;TZID=Europe/Berlin:20261014T190000
DTEND;TZID=Europe/Berlin:20261014T200000
DTSTAMP:20260425T170153
CREATED:20231105T121224Z
LAST-MODIFIED:20231105T121346Z
UID:10006401-1792004400-1792008000@www.universum-gym.com
SUMMARY:Frauen Boxen
DESCRIPTION:
URL:https://www.universum-gym.com/event/frauen-boxen-2/2026-10-14/
CATEGORIES:Boxing
END:VEVENT
BEGIN:VEVENT
DTSTART;TZID=Europe/Berlin:20261015T170000
DTEND;TZID=Europe/Berlin:20261015T180000
DTSTAMP:20260425T170153
CREATED:20230927T071439Z
LAST-MODIFIED:20231105T115531Z
UID:10002788-1792083600-1792087200@www.universum-gym.com
SUMMARY:Amateur Boxen
DESCRIPTION:Wettkämpfer
URL:https://www.universum-gym.com/event/amateur-boxen-jugendliche-und-elite-2/2026-10-15/
CATEGORIES:Boxing
END:VEVENT
BEGIN:VEVENT
DTSTART;TZID=Europe/Berlin:20261015T180000
DTEND;TZID=Europe/Berlin:20261015T190000
DTSTAMP:20260425T170153
CREATED:20231105T121524Z
LAST-MODIFIED:20231105T121844Z
UID:10006925-1792087200-1792090800@www.universum-gym.com
SUMMARY:Boxen Technik/Taktik Training
DESCRIPTION:
URL:https://www.universum-gym.com/event/boxen-technik-taktik-training/2026-10-15/
CATEGORIES:Boxing
END:VEVENT
BEGIN:VEVENT
DTSTART;TZID=Europe/Berlin:20261016T170000
DTEND;TZID=Europe/Berlin:20261016T180000
DTSTAMP:20260425T170153
CREATED:20231105T121647Z
LAST-MODIFIED:20231105T121647Z
UID:10007294-1792170000-1792173600@www.universum-gym.com
SUMMARY:Männer Zirkeltraining
DESCRIPTION:
URL:https://www.universum-gym.com/event/maenner-zirkeltraining/2026-10-16/
CATEGORIES:Kurse
END:VEVENT
BEGIN:VEVENT
DTSTART;TZID=Europe/Berlin:20261016T180000
DTEND;TZID=Europe/Berlin:20261016T190000
DTSTAMP:20260425T170153
CREATED:20231105T121747Z
LAST-MODIFIED:20231105T121747Z
UID:10007556-1792173600-1792177200@www.universum-gym.com
SUMMARY:Frauen Zirkeltraining
DESCRIPTION:
URL:https://www.universum-gym.com/event/frauen-zirkeltraining/2026-10-16/
CATEGORIES:Kurse
END:VEVENT
BEGIN:VEVENT
DTSTART;TZID=Europe/Berlin:20261017T103000
DTEND;TZID=Europe/Berlin:20261017T113000
DTSTAMP:20260425T170153
CREATED:20230927T071831Z
LAST-MODIFIED:20230927T071831Z
UID:10004354-1792233000-1792236600@www.universum-gym.com
SUMMARY:Amateur Boxen / Sparring
DESCRIPTION:
URL:https://www.universum-gym.com/event/amateur-boxen-sparring/2026-10-17/
CATEGORIES:Boxing
END:VEVENT
END:VCALENDAR