BEGIN:VCALENDAR
VERSION:2.0
PRODID:-//Universum Gym - ECPv6.2.8.1//NONSGML v1.0//EN
CALSCALE:GREGORIAN
METHOD:PUBLISH
X-ORIGINAL-URL:https://www.universum-gym.com
X-WR-CALDESC:Veranstaltungen für Universum Gym
REFRESH-INTERVAL;VALUE=DURATION:PT1H
X-Robots-Tag:noindex
X-PUBLISHED-TTL:PT1H
BEGIN:VTIMEZONE
TZID:Europe/Berlin
BEGIN:DAYLIGHT
TZOFFSETFROM:+0100
TZOFFSETTO:+0200
TZNAME:CEST
DTSTART:20260329T010000
END:DAYLIGHT
BEGIN:STANDARD
TZOFFSETFROM:+0200
TZOFFSETTO:+0100
TZNAME:CET
DTSTART:20261025T010000
END:STANDARD
END:VTIMEZONE
BEGIN:VEVENT
DTSTART;TZID=Europe/Berlin:20260831T170000
DTEND;TZID=Europe/Berlin:20260831T180000
DTSTAMP:20260423T225716
CREATED:20230927T065500Z
LAST-MODIFIED:20230927T071151Z
UID:10000159-1788195600-1788199200@www.universum-gym.com
SUMMARY:Kinder Boxen
DESCRIPTION:“Anfänger”
URL:https://www.universum-gym.com/event/kinder-boxen-anfaenger/2026-08-31/
CATEGORIES:Boxing
END:VEVENT
BEGIN:VEVENT
DTSTART;TZID=Europe/Berlin:20260831T180000
DTEND;TZID=Europe/Berlin:20260831T190000
DTSTAMP:20260423T225716
CREATED:20231105T120154Z
LAST-MODIFIED:20231105T120627Z
UID:10005437-1788199200-1788202800@www.universum-gym.com
SUMMARY:Männer Fitness Boxen
DESCRIPTION:
URL:https://www.universum-gym.com/event/fitness-boxen-3/2026-08-31/
CATEGORIES:Boxing
END:VEVENT
BEGIN:VEVENT
DTSTART;TZID=Europe/Berlin:20260831T190000
DTEND;TZID=Europe/Berlin:20260831T200000
DTSTAMP:20260423T225716
CREATED:20231105T121224Z
LAST-MODIFIED:20231105T121346Z
UID:10006388-1788202800-1788206400@www.universum-gym.com
SUMMARY:Frauen Boxen
DESCRIPTION:
URL:https://www.universum-gym.com/event/frauen-boxen-2/2026-08-31/
CATEGORIES:Boxing
END:VEVENT
BEGIN:VEVENT
DTSTART;TZID=Europe/Berlin:20260901T170000
DTEND;TZID=Europe/Berlin:20260901T180000
DTSTAMP:20260423T225716
CREATED:20230927T071439Z
LAST-MODIFIED:20231105T115531Z
UID:10001208-1788282000-1788285600@www.universum-gym.com
SUMMARY:Amateur Boxen
DESCRIPTION:Wettkämpfer
URL:https://www.universum-gym.com/event/amateur-boxen-jugendliche-und-elite-2/2026-09-01/
CATEGORIES:Boxing
END:VEVENT
BEGIN:VEVENT
DTSTART;TZID=Europe/Berlin:20260901T180000
DTEND;TZID=Europe/Berlin:20260901T190000
DTSTAMP:20260423T225716
CREATED:20231105T121524Z
LAST-MODIFIED:20231105T121844Z
UID:10006912-1788285600-1788289200@www.universum-gym.com
SUMMARY:Boxen Technik/Taktik Training
DESCRIPTION:
URL:https://www.universum-gym.com/event/boxen-technik-taktik-training/2026-09-01/
CATEGORIES:Boxing
END:VEVENT
BEGIN:VEVENT
DTSTART;TZID=Europe/Berlin:20260902T170000
DTEND;TZID=Europe/Berlin:20260902T180000
DTSTAMP:20260423T225716
CREATED:20230927T065500Z
LAST-MODIFIED:20230927T071151Z
UID:10001733-1788368400-1788372000@www.universum-gym.com
SUMMARY:Kinder Boxen
DESCRIPTION:“Anfänger”
URL:https://www.universum-gym.com/event/kinder-boxen-anfaenger/2026-09-02/
CATEGORIES:Boxing
END:VEVENT
BEGIN:VEVENT
DTSTART;TZID=Europe/Berlin:20260902T180000
DTEND;TZID=Europe/Berlin:20260902T190000
DTSTAMP:20260423T225716
CREATED:20231105T120154Z
LAST-MODIFIED:20231105T120627Z
UID:10005164-1788372000-1788375600@www.universum-gym.com
SUMMARY:Männer Fitness Boxen
DESCRIPTION:
URL:https://www.universum-gym.com/event/fitness-boxen-3/2026-09-02/
CATEGORIES:Boxing
END:VEVENT
BEGIN:VEVENT
DTSTART;TZID=Europe/Berlin:20260902T190000
DTEND;TZID=Europe/Berlin:20260902T200000
DTSTAMP:20260423T225716
CREATED:20231105T121224Z
LAST-MODIFIED:20231105T121346Z
UID:10006389-1788375600-1788379200@www.universum-gym.com
SUMMARY:Frauen Boxen
DESCRIPTION:
URL:https://www.universum-gym.com/event/frauen-boxen-2/2026-09-02/
CATEGORIES:Boxing
END:VEVENT
BEGIN:VEVENT
DTSTART;TZID=Europe/Berlin:20260903T170000
DTEND;TZID=Europe/Berlin:20260903T180000
DTSTAMP:20260423T225716
CREATED:20230927T071439Z
LAST-MODIFIED:20231105T115531Z
UID:10002782-1788454800-1788458400@www.universum-gym.com
SUMMARY:Amateur Boxen
DESCRIPTION:Wettkämpfer
URL:https://www.universum-gym.com/event/amateur-boxen-jugendliche-und-elite-2/2026-09-03/
CATEGORIES:Boxing
END:VEVENT
BEGIN:VEVENT
DTSTART;TZID=Europe/Berlin:20260903T180000
DTEND;TZID=Europe/Berlin:20260903T190000
DTSTAMP:20260423T225716
CREATED:20231105T121524Z
LAST-MODIFIED:20231105T121844Z
UID:10006913-1788458400-1788462000@www.universum-gym.com
SUMMARY:Boxen Technik/Taktik Training
DESCRIPTION:
URL:https://www.universum-gym.com/event/boxen-technik-taktik-training/2026-09-03/
CATEGORIES:Boxing
END:VEVENT
BEGIN:VEVENT
DTSTART;TZID=Europe/Berlin:20260904T170000
DTEND;TZID=Europe/Berlin:20260904T180000
DTSTAMP:20260423T225716
CREATED:20231105T121647Z
LAST-MODIFIED:20231105T121647Z
UID:10007288-1788541200-1788544800@www.universum-gym.com
SUMMARY:Männer Zirkeltraining
DESCRIPTION:
URL:https://www.universum-gym.com/event/maenner-zirkeltraining/2026-09-04/
CATEGORIES:Kurse
END:VEVENT
BEGIN:VEVENT
DTSTART;TZID=Europe/Berlin:20260904T180000
DTEND;TZID=Europe/Berlin:20260904T190000
DTSTAMP:20260423T225716
CREATED:20231105T121747Z
LAST-MODIFIED:20231105T121747Z
UID:10007550-1788544800-1788548400@www.universum-gym.com
SUMMARY:Frauen Zirkeltraining
DESCRIPTION:
URL:https://www.universum-gym.com/event/frauen-zirkeltraining/2026-09-04/
CATEGORIES:Kurse
END:VEVENT
BEGIN:VEVENT
DTSTART;TZID=Europe/Berlin:20260905T103000
DTEND;TZID=Europe/Berlin:20260905T113000
DTSTAMP:20260423T225716
CREATED:20230927T071831Z
LAST-MODIFIED:20230927T071831Z
UID:10004348-1788604200-1788607800@www.universum-gym.com
SUMMARY:Amateur Boxen / Sparring
DESCRIPTION:
URL:https://www.universum-gym.com/event/amateur-boxen-sparring/2026-09-05/
CATEGORIES:Boxing
END:VEVENT
END:VCALENDAR