BEGIN:VCALENDAR
VERSION:2.0
PRODID:-//Universum Gym - ECPv6.2.8.1//NONSGML v1.0//EN
CALSCALE:GREGORIAN
METHOD:PUBLISH
X-ORIGINAL-URL:https://www.universum-gym.com
X-WR-CALDESC:Veranstaltungen für Universum Gym
REFRESH-INTERVAL;VALUE=DURATION:PT1H
X-Robots-Tag:noindex
X-PUBLISHED-TTL:PT1H
BEGIN:VTIMEZONE
TZID:Europe/Berlin
BEGIN:DAYLIGHT
TZOFFSETFROM:+0100
TZOFFSETTO:+0200
TZNAME:CEST
DTSTART:20260329T010000
END:DAYLIGHT
BEGIN:STANDARD
TZOFFSETFROM:+0200
TZOFFSETTO:+0100
TZNAME:CET
DTSTART:20261025T010000
END:STANDARD
END:VTIMEZONE
BEGIN:VEVENT
DTSTART;TZID=Europe/Berlin:20260713T170000
DTEND;TZID=Europe/Berlin:20260713T180000
DTSTAMP:20260421T190159
CREATED:20230927T065500Z
LAST-MODIFIED:20230927T071151Z
UID:10000152-1783962000-1783965600@www.universum-gym.com
SUMMARY:Kinder Boxen
DESCRIPTION:“Anfänger”
URL:https://www.universum-gym.com/event/kinder-boxen-anfaenger/2026-07-13/
CATEGORIES:Boxing
END:VEVENT
BEGIN:VEVENT
DTSTART;TZID=Europe/Berlin:20260713T180000
DTEND;TZID=Europe/Berlin:20260713T190000
DTSTAMP:20260421T190159
CREATED:20231105T120154Z
LAST-MODIFIED:20231105T120627Z
UID:10005430-1783965600-1783969200@www.universum-gym.com
SUMMARY:Männer Fitness Boxen
DESCRIPTION:
URL:https://www.universum-gym.com/event/fitness-boxen-3/2026-07-13/
CATEGORIES:Boxing
END:VEVENT
BEGIN:VEVENT
DTSTART;TZID=Europe/Berlin:20260713T190000
DTEND;TZID=Europe/Berlin:20260713T200000
DTSTAMP:20260421T190159
CREATED:20231105T121224Z
LAST-MODIFIED:20231105T121346Z
UID:10006374-1783969200-1783972800@www.universum-gym.com
SUMMARY:Frauen Boxen
DESCRIPTION:
URL:https://www.universum-gym.com/event/frauen-boxen-2/2026-07-13/
CATEGORIES:Boxing
END:VEVENT
BEGIN:VEVENT
DTSTART;TZID=Europe/Berlin:20260714T170000
DTEND;TZID=Europe/Berlin:20260714T180000
DTSTAMP:20260421T190159
CREATED:20230927T071439Z
LAST-MODIFIED:20231105T115531Z
UID:10001201-1784048400-1784052000@www.universum-gym.com
SUMMARY:Amateur Boxen
DESCRIPTION:Wettkämpfer
URL:https://www.universum-gym.com/event/amateur-boxen-jugendliche-und-elite-2/2026-07-14/
CATEGORIES:Boxing
END:VEVENT
BEGIN:VEVENT
DTSTART;TZID=Europe/Berlin:20260714T180000
DTEND;TZID=Europe/Berlin:20260714T190000
DTSTAMP:20260421T190159
CREATED:20231105T121524Z
LAST-MODIFIED:20231105T121844Z
UID:10006898-1784052000-1784055600@www.universum-gym.com
SUMMARY:Boxen Technik/Taktik Training
DESCRIPTION:
URL:https://www.universum-gym.com/event/boxen-technik-taktik-training/2026-07-14/
CATEGORIES:Boxing
END:VEVENT
BEGIN:VEVENT
DTSTART;TZID=Europe/Berlin:20260715T170000
DTEND;TZID=Europe/Berlin:20260715T180000
DTSTAMP:20260421T190159
CREATED:20230927T065500Z
LAST-MODIFIED:20230927T071151Z
UID:10001726-1784134800-1784138400@www.universum-gym.com
SUMMARY:Kinder Boxen
DESCRIPTION:“Anfänger”
URL:https://www.universum-gym.com/event/kinder-boxen-anfaenger/2026-07-15/
CATEGORIES:Boxing
END:VEVENT
BEGIN:VEVENT
DTSTART;TZID=Europe/Berlin:20260715T180000
DTEND;TZID=Europe/Berlin:20260715T190000
DTSTAMP:20260421T190159
CREATED:20231105T120154Z
LAST-MODIFIED:20231105T120627Z
UID:10005157-1784138400-1784142000@www.universum-gym.com
SUMMARY:Männer Fitness Boxen
DESCRIPTION:
URL:https://www.universum-gym.com/event/fitness-boxen-3/2026-07-15/
CATEGORIES:Boxing
END:VEVENT
BEGIN:VEVENT
DTSTART;TZID=Europe/Berlin:20260715T190000
DTEND;TZID=Europe/Berlin:20260715T200000
DTSTAMP:20260421T190159
CREATED:20231105T121224Z
LAST-MODIFIED:20231105T121346Z
UID:10006375-1784142000-1784145600@www.universum-gym.com
SUMMARY:Frauen Boxen
DESCRIPTION:
URL:https://www.universum-gym.com/event/frauen-boxen-2/2026-07-15/
CATEGORIES:Boxing
END:VEVENT
BEGIN:VEVENT
DTSTART;TZID=Europe/Berlin:20260716T170000
DTEND;TZID=Europe/Berlin:20260716T180000
DTSTAMP:20260421T190159
CREATED:20230927T071439Z
LAST-MODIFIED:20231105T115531Z
UID:10002775-1784221200-1784224800@www.universum-gym.com
SUMMARY:Amateur Boxen
DESCRIPTION:Wettkämpfer
URL:https://www.universum-gym.com/event/amateur-boxen-jugendliche-und-elite-2/2026-07-16/
CATEGORIES:Boxing
END:VEVENT
BEGIN:VEVENT
DTSTART;TZID=Europe/Berlin:20260716T180000
DTEND;TZID=Europe/Berlin:20260716T190000
DTSTAMP:20260421T190159
CREATED:20231105T121524Z
LAST-MODIFIED:20231105T121844Z
UID:10006899-1784224800-1784228400@www.universum-gym.com
SUMMARY:Boxen Technik/Taktik Training
DESCRIPTION:
URL:https://www.universum-gym.com/event/boxen-technik-taktik-training/2026-07-16/
CATEGORIES:Boxing
END:VEVENT
BEGIN:VEVENT
DTSTART;TZID=Europe/Berlin:20260717T170000
DTEND;TZID=Europe/Berlin:20260717T180000
DTSTAMP:20260421T190159
CREATED:20231105T121647Z
LAST-MODIFIED:20231105T121647Z
UID:10007281-1784307600-1784311200@www.universum-gym.com
SUMMARY:Männer Zirkeltraining
DESCRIPTION:
URL:https://www.universum-gym.com/event/maenner-zirkeltraining/2026-07-17/
CATEGORIES:Kurse
END:VEVENT
BEGIN:VEVENT
DTSTART;TZID=Europe/Berlin:20260717T180000
DTEND;TZID=Europe/Berlin:20260717T190000
DTSTAMP:20260421T190159
CREATED:20231105T121747Z
LAST-MODIFIED:20231105T121747Z
UID:10007543-1784311200-1784314800@www.universum-gym.com
SUMMARY:Frauen Zirkeltraining
DESCRIPTION:
URL:https://www.universum-gym.com/event/frauen-zirkeltraining/2026-07-17/
CATEGORIES:Kurse
END:VEVENT
BEGIN:VEVENT
DTSTART;TZID=Europe/Berlin:20260718T103000
DTEND;TZID=Europe/Berlin:20260718T113000
DTSTAMP:20260421T190159
CREATED:20230927T071831Z
LAST-MODIFIED:20230927T071831Z
UID:10004341-1784370600-1784374200@www.universum-gym.com
SUMMARY:Amateur Boxen / Sparring
DESCRIPTION:
URL:https://www.universum-gym.com/event/amateur-boxen-sparring/2026-07-18/
CATEGORIES:Boxing
END:VEVENT
END:VCALENDAR