BEGIN:VCALENDAR
VERSION:2.0
PRODID:-//Universum Gym - ECPv6.2.8.1//NONSGML v1.0//EN
CALSCALE:GREGORIAN
METHOD:PUBLISH
X-ORIGINAL-URL:https://www.universum-gym.com
X-WR-CALDESC:Veranstaltungen für Universum Gym
REFRESH-INTERVAL;VALUE=DURATION:PT1H
X-Robots-Tag:noindex
X-PUBLISHED-TTL:PT1H
BEGIN:VTIMEZONE
TZID:Europe/Berlin
BEGIN:DAYLIGHT
TZOFFSETFROM:+0100
TZOFFSETTO:+0200
TZNAME:CEST
DTSTART:20250330T010000
END:DAYLIGHT
BEGIN:STANDARD
TZOFFSETFROM:+0200
TZOFFSETTO:+0100
TZNAME:CET
DTSTART:20251026T010000
END:STANDARD
END:VTIMEZONE
BEGIN:VEVENT
DTSTART;TZID=Europe/Berlin:20250331T170000
DTEND;TZID=Europe/Berlin:20250331T180000
DTSTAMP:20260421T231047
CREATED:20230927T065500Z
LAST-MODIFIED:20230927T071151Z
UID:10000085-1743440400-1743444000@www.universum-gym.com
SUMMARY:Kinder Boxen
DESCRIPTION:“Anfänger”
URL:https://www.universum-gym.com/event/kinder-boxen-anfaenger/2025-03-31/
CATEGORIES:Boxing
END:VEVENT
BEGIN:VEVENT
DTSTART;TZID=Europe/Berlin:20250331T180000
DTEND;TZID=Europe/Berlin:20250331T190000
DTSTAMP:20260421T231047
CREATED:20231105T120154Z
LAST-MODIFIED:20231105T120627Z
UID:10005363-1743444000-1743447600@www.universum-gym.com
SUMMARY:Männer Fitness Boxen
DESCRIPTION:
URL:https://www.universum-gym.com/event/fitness-boxen-3/2025-03-31/
CATEGORIES:Boxing
END:VEVENT
BEGIN:VEVENT
DTSTART;TZID=Europe/Berlin:20250331T190000
DTEND;TZID=Europe/Berlin:20250331T200000
DTSTAMP:20260421T231047
CREATED:20231105T121224Z
LAST-MODIFIED:20231105T121346Z
UID:10006240-1743447600-1743451200@www.universum-gym.com
SUMMARY:Frauen Boxen
DESCRIPTION:
URL:https://www.universum-gym.com/event/frauen-boxen-2/2025-03-31/
CATEGORIES:Boxing
END:VEVENT
BEGIN:VEVENT
DTSTART;TZID=Europe/Berlin:20250401T170000
DTEND;TZID=Europe/Berlin:20250401T180000
DTSTAMP:20260421T231047
CREATED:20230927T071439Z
LAST-MODIFIED:20231105T115531Z
UID:10001134-1743526800-1743530400@www.universum-gym.com
SUMMARY:Amateur Boxen
DESCRIPTION:Wettkämpfer
URL:https://www.universum-gym.com/event/amateur-boxen-jugendliche-und-elite-2/2025-04-01/
CATEGORIES:Boxing
END:VEVENT
BEGIN:VEVENT
DTSTART;TZID=Europe/Berlin:20250401T180000
DTEND;TZID=Europe/Berlin:20250401T190000
DTSTAMP:20260421T231047
CREATED:20231105T121524Z
LAST-MODIFIED:20231105T121844Z
UID:10006764-1743530400-1743534000@www.universum-gym.com
SUMMARY:Boxen Technik/Taktik Training
DESCRIPTION:
URL:https://www.universum-gym.com/event/boxen-technik-taktik-training/2025-04-01/
CATEGORIES:Boxing
END:VEVENT
BEGIN:VEVENT
DTSTART;TZID=Europe/Berlin:20250402T170000
DTEND;TZID=Europe/Berlin:20250402T180000
DTSTAMP:20260421T231047
CREATED:20230927T065500Z
LAST-MODIFIED:20230927T071151Z
UID:10001659-1743613200-1743616800@www.universum-gym.com
SUMMARY:Kinder Boxen
DESCRIPTION:“Anfänger”
URL:https://www.universum-gym.com/event/kinder-boxen-anfaenger/2025-04-02/
CATEGORIES:Boxing
END:VEVENT
BEGIN:VEVENT
DTSTART;TZID=Europe/Berlin:20250402T180000
DTEND;TZID=Europe/Berlin:20250402T190000
DTSTAMP:20260421T231047
CREATED:20231105T120154Z
LAST-MODIFIED:20231105T120627Z
UID:10005090-1743616800-1743620400@www.universum-gym.com
SUMMARY:Männer Fitness Boxen
DESCRIPTION:
URL:https://www.universum-gym.com/event/fitness-boxen-3/2025-04-02/
CATEGORIES:Boxing
END:VEVENT
BEGIN:VEVENT
DTSTART;TZID=Europe/Berlin:20250402T190000
DTEND;TZID=Europe/Berlin:20250402T200000
DTSTAMP:20260421T231047
CREATED:20231105T121224Z
LAST-MODIFIED:20231105T121346Z
UID:10006241-1743620400-1743624000@www.universum-gym.com
SUMMARY:Frauen Boxen
DESCRIPTION:
URL:https://www.universum-gym.com/event/frauen-boxen-2/2025-04-02/
CATEGORIES:Boxing
END:VEVENT
BEGIN:VEVENT
DTSTART;TZID=Europe/Berlin:20250403T170000
DTEND;TZID=Europe/Berlin:20250403T180000
DTSTAMP:20260421T231047
CREATED:20230927T071439Z
LAST-MODIFIED:20231105T115531Z
UID:10002708-1743699600-1743703200@www.universum-gym.com
SUMMARY:Amateur Boxen
DESCRIPTION:Wettkämpfer
URL:https://www.universum-gym.com/event/amateur-boxen-jugendliche-und-elite-2/2025-04-03/
CATEGORIES:Boxing
END:VEVENT
BEGIN:VEVENT
DTSTART;TZID=Europe/Berlin:20250403T180000
DTEND;TZID=Europe/Berlin:20250403T190000
DTSTAMP:20260421T231047
CREATED:20231105T121524Z
LAST-MODIFIED:20231105T121844Z
UID:10006765-1743703200-1743706800@www.universum-gym.com
SUMMARY:Boxen Technik/Taktik Training
DESCRIPTION:
URL:https://www.universum-gym.com/event/boxen-technik-taktik-training/2025-04-03/
CATEGORIES:Boxing
END:VEVENT
BEGIN:VEVENT
DTSTART;TZID=Europe/Berlin:20250404T170000
DTEND;TZID=Europe/Berlin:20250404T180000
DTSTAMP:20260421T231047
CREATED:20231105T121647Z
LAST-MODIFIED:20231105T121647Z
UID:10007214-1743786000-1743789600@www.universum-gym.com
SUMMARY:Männer Zirkeltraining
DESCRIPTION:
URL:https://www.universum-gym.com/event/maenner-zirkeltraining/2025-04-04/
CATEGORIES:Kurse
END:VEVENT
BEGIN:VEVENT
DTSTART;TZID=Europe/Berlin:20250404T180000
DTEND;TZID=Europe/Berlin:20250404T190000
DTSTAMP:20260421T231047
CREATED:20231105T121747Z
LAST-MODIFIED:20231105T121747Z
UID:10007476-1743789600-1743793200@www.universum-gym.com
SUMMARY:Frauen Zirkeltraining
DESCRIPTION:
URL:https://www.universum-gym.com/event/frauen-zirkeltraining/2025-04-04/
CATEGORIES:Kurse
END:VEVENT
BEGIN:VEVENT
DTSTART;TZID=Europe/Berlin:20250405T103000
DTEND;TZID=Europe/Berlin:20250405T113000
DTSTAMP:20260421T231047
CREATED:20230927T071831Z
LAST-MODIFIED:20230927T071831Z
UID:10004274-1743849000-1743852600@www.universum-gym.com
SUMMARY:Amateur Boxen / Sparring
DESCRIPTION:
URL:https://www.universum-gym.com/event/amateur-boxen-sparring/2025-04-05/
CATEGORIES:Boxing
END:VEVENT
END:VCALENDAR