BEGIN:VCALENDAR
VERSION:2.0
PRODID:-//Universum Gym - ECPv6.2.8.1//NONSGML v1.0//EN
CALSCALE:GREGORIAN
METHOD:PUBLISH
X-ORIGINAL-URL:https://www.universum-gym.com
X-WR-CALDESC:Veranstaltungen für Universum Gym
REFRESH-INTERVAL;VALUE=DURATION:PT1H
X-Robots-Tag:noindex
X-PUBLISHED-TTL:PT1H
BEGIN:VTIMEZONE
TZID:Europe/Berlin
BEGIN:DAYLIGHT
TZOFFSETFROM:+0100
TZOFFSETTO:+0200
TZNAME:CEST
DTSTART:20250330T010000
END:DAYLIGHT
BEGIN:STANDARD
TZOFFSETFROM:+0200
TZOFFSETTO:+0100
TZNAME:CET
DTSTART:20251026T010000
END:STANDARD
END:VTIMEZONE
BEGIN:VEVENT
DTSTART;TZID=Europe/Berlin:20250310T170000
DTEND;TZID=Europe/Berlin:20250310T180000
DTSTAMP:20260422T041008
CREATED:20230927T065500Z
LAST-MODIFIED:20230927T071151Z
UID:10000082-1741626000-1741629600@www.universum-gym.com
SUMMARY:Kinder Boxen
DESCRIPTION:“Anfänger”
URL:https://www.universum-gym.com/event/kinder-boxen-anfaenger/2025-03-10/
CATEGORIES:Boxing
END:VEVENT
BEGIN:VEVENT
DTSTART;TZID=Europe/Berlin:20250310T180000
DTEND;TZID=Europe/Berlin:20250310T190000
DTSTAMP:20260422T041008
CREATED:20231105T120154Z
LAST-MODIFIED:20231105T120627Z
UID:10005360-1741629600-1741633200@www.universum-gym.com
SUMMARY:Männer Fitness Boxen
DESCRIPTION:
URL:https://www.universum-gym.com/event/fitness-boxen-3/2025-03-10/
CATEGORIES:Boxing
END:VEVENT
BEGIN:VEVENT
DTSTART;TZID=Europe/Berlin:20250310T190000
DTEND;TZID=Europe/Berlin:20250310T200000
DTSTAMP:20260422T041008
CREATED:20231105T121224Z
LAST-MODIFIED:20231105T121346Z
UID:10006234-1741633200-1741636800@www.universum-gym.com
SUMMARY:Frauen Boxen
DESCRIPTION:
URL:https://www.universum-gym.com/event/frauen-boxen-2/2025-03-10/
CATEGORIES:Boxing
END:VEVENT
BEGIN:VEVENT
DTSTART;TZID=Europe/Berlin:20250311T170000
DTEND;TZID=Europe/Berlin:20250311T180000
DTSTAMP:20260422T041008
CREATED:20230927T071439Z
LAST-MODIFIED:20231105T115531Z
UID:10001131-1741712400-1741716000@www.universum-gym.com
SUMMARY:Amateur Boxen
DESCRIPTION:Wettkämpfer
URL:https://www.universum-gym.com/event/amateur-boxen-jugendliche-und-elite-2/2025-03-11/
CATEGORIES:Boxing
END:VEVENT
BEGIN:VEVENT
DTSTART;TZID=Europe/Berlin:20250311T180000
DTEND;TZID=Europe/Berlin:20250311T190000
DTSTAMP:20260422T041008
CREATED:20231105T121524Z
LAST-MODIFIED:20231105T121844Z
UID:10006758-1741716000-1741719600@www.universum-gym.com
SUMMARY:Boxen Technik/Taktik Training
DESCRIPTION:
URL:https://www.universum-gym.com/event/boxen-technik-taktik-training/2025-03-11/
CATEGORIES:Boxing
END:VEVENT
BEGIN:VEVENT
DTSTART;TZID=Europe/Berlin:20250312T170000
DTEND;TZID=Europe/Berlin:20250312T180000
DTSTAMP:20260422T041008
CREATED:20230927T065500Z
LAST-MODIFIED:20230927T071151Z
UID:10001656-1741798800-1741802400@www.universum-gym.com
SUMMARY:Kinder Boxen
DESCRIPTION:“Anfänger”
URL:https://www.universum-gym.com/event/kinder-boxen-anfaenger/2025-03-12/
CATEGORIES:Boxing
END:VEVENT
BEGIN:VEVENT
DTSTART;TZID=Europe/Berlin:20250312T180000
DTEND;TZID=Europe/Berlin:20250312T190000
DTSTAMP:20260422T041008
CREATED:20231105T120154Z
LAST-MODIFIED:20231105T120627Z
UID:10005087-1741802400-1741806000@www.universum-gym.com
SUMMARY:Männer Fitness Boxen
DESCRIPTION:
URL:https://www.universum-gym.com/event/fitness-boxen-3/2025-03-12/
CATEGORIES:Boxing
END:VEVENT
BEGIN:VEVENT
DTSTART;TZID=Europe/Berlin:20250312T190000
DTEND;TZID=Europe/Berlin:20250312T200000
DTSTAMP:20260422T041008
CREATED:20231105T121224Z
LAST-MODIFIED:20231105T121346Z
UID:10006235-1741806000-1741809600@www.universum-gym.com
SUMMARY:Frauen Boxen
DESCRIPTION:
URL:https://www.universum-gym.com/event/frauen-boxen-2/2025-03-12/
CATEGORIES:Boxing
END:VEVENT
BEGIN:VEVENT
DTSTART;TZID=Europe/Berlin:20250313T170000
DTEND;TZID=Europe/Berlin:20250313T180000
DTSTAMP:20260422T041008
CREATED:20230927T071439Z
LAST-MODIFIED:20231105T115531Z
UID:10002705-1741885200-1741888800@www.universum-gym.com
SUMMARY:Amateur Boxen
DESCRIPTION:Wettkämpfer
URL:https://www.universum-gym.com/event/amateur-boxen-jugendliche-und-elite-2/2025-03-13/
CATEGORIES:Boxing
END:VEVENT
BEGIN:VEVENT
DTSTART;TZID=Europe/Berlin:20250313T180000
DTEND;TZID=Europe/Berlin:20250313T190000
DTSTAMP:20260422T041008
CREATED:20231105T121524Z
LAST-MODIFIED:20231105T121844Z
UID:10006759-1741888800-1741892400@www.universum-gym.com
SUMMARY:Boxen Technik/Taktik Training
DESCRIPTION:
URL:https://www.universum-gym.com/event/boxen-technik-taktik-training/2025-03-13/
CATEGORIES:Boxing
END:VEVENT
BEGIN:VEVENT
DTSTART;TZID=Europe/Berlin:20250314T170000
DTEND;TZID=Europe/Berlin:20250314T180000
DTSTAMP:20260422T041008
CREATED:20231105T121647Z
LAST-MODIFIED:20231105T121647Z
UID:10007211-1741971600-1741975200@www.universum-gym.com
SUMMARY:Männer Zirkeltraining
DESCRIPTION:
URL:https://www.universum-gym.com/event/maenner-zirkeltraining/2025-03-14/
CATEGORIES:Kurse
END:VEVENT
BEGIN:VEVENT
DTSTART;TZID=Europe/Berlin:20250314T180000
DTEND;TZID=Europe/Berlin:20250314T190000
DTSTAMP:20260422T041008
CREATED:20231105T121747Z
LAST-MODIFIED:20231105T121747Z
UID:10007473-1741975200-1741978800@www.universum-gym.com
SUMMARY:Frauen Zirkeltraining
DESCRIPTION:
URL:https://www.universum-gym.com/event/frauen-zirkeltraining/2025-03-14/
CATEGORIES:Kurse
END:VEVENT
BEGIN:VEVENT
DTSTART;TZID=Europe/Berlin:20250315T103000
DTEND;TZID=Europe/Berlin:20250315T113000
DTSTAMP:20260422T041008
CREATED:20230927T071831Z
LAST-MODIFIED:20230927T071831Z
UID:10004271-1742034600-1742038200@www.universum-gym.com
SUMMARY:Amateur Boxen / Sparring
DESCRIPTION:
URL:https://www.universum-gym.com/event/amateur-boxen-sparring/2025-03-15/
CATEGORIES:Boxing
END:VEVENT
END:VCALENDAR