BEGIN:VCALENDAR
VERSION:2.0
PRODID:-//Universum Gym - ECPv6.2.8.1//NONSGML v1.0//EN
CALSCALE:GREGORIAN
METHOD:PUBLISH
X-ORIGINAL-URL:https://www.universum-gym.com
X-WR-CALDESC:Veranstaltungen für Universum Gym
REFRESH-INTERVAL;VALUE=DURATION:PT1H
X-Robots-Tag:noindex
X-PUBLISHED-TTL:PT1H
BEGIN:VTIMEZONE
TZID:Europe/Berlin
BEGIN:DAYLIGHT
TZOFFSETFROM:+0100
TZOFFSETTO:+0200
TZNAME:CEST
DTSTART:20250330T010000
END:DAYLIGHT
BEGIN:STANDARD
TZOFFSETFROM:+0200
TZOFFSETTO:+0100
TZNAME:CET
DTSTART:20251026T010000
END:STANDARD
END:VTIMEZONE
BEGIN:VEVENT
DTSTART;TZID=Europe/Berlin:20250224T170000
DTEND;TZID=Europe/Berlin:20250224T180000
DTSTAMP:20260422T041012
CREATED:20230927T065500Z
LAST-MODIFIED:20230927T071151Z
UID:10000080-1740416400-1740420000@www.universum-gym.com
SUMMARY:Kinder Boxen
DESCRIPTION:“Anfänger”
URL:https://www.universum-gym.com/event/kinder-boxen-anfaenger/2025-02-24/
CATEGORIES:Boxing
END:VEVENT
BEGIN:VEVENT
DTSTART;TZID=Europe/Berlin:20250224T180000
DTEND;TZID=Europe/Berlin:20250224T190000
DTSTAMP:20260422T041012
CREATED:20231105T120154Z
LAST-MODIFIED:20231105T120627Z
UID:10005358-1740420000-1740423600@www.universum-gym.com
SUMMARY:Männer Fitness Boxen
DESCRIPTION:
URL:https://www.universum-gym.com/event/fitness-boxen-3/2025-02-24/
CATEGORIES:Boxing
END:VEVENT
BEGIN:VEVENT
DTSTART;TZID=Europe/Berlin:20250224T190000
DTEND;TZID=Europe/Berlin:20250224T200000
DTSTAMP:20260422T041012
CREATED:20231105T121224Z
LAST-MODIFIED:20231105T121346Z
UID:10006230-1740423600-1740427200@www.universum-gym.com
SUMMARY:Frauen Boxen
DESCRIPTION:
URL:https://www.universum-gym.com/event/frauen-boxen-2/2025-02-24/
CATEGORIES:Boxing
END:VEVENT
BEGIN:VEVENT
DTSTART;TZID=Europe/Berlin:20250225T170000
DTEND;TZID=Europe/Berlin:20250225T180000
DTSTAMP:20260422T041012
CREATED:20230927T071439Z
LAST-MODIFIED:20231105T115531Z
UID:10001129-1740502800-1740506400@www.universum-gym.com
SUMMARY:Amateur Boxen
DESCRIPTION:Wettkämpfer
URL:https://www.universum-gym.com/event/amateur-boxen-jugendliche-und-elite-2/2025-02-25/
CATEGORIES:Boxing
END:VEVENT
BEGIN:VEVENT
DTSTART;TZID=Europe/Berlin:20250225T180000
DTEND;TZID=Europe/Berlin:20250225T190000
DTSTAMP:20260422T041012
CREATED:20231105T121524Z
LAST-MODIFIED:20231105T121844Z
UID:10006754-1740506400-1740510000@www.universum-gym.com
SUMMARY:Boxen Technik/Taktik Training
DESCRIPTION:
URL:https://www.universum-gym.com/event/boxen-technik-taktik-training/2025-02-25/
CATEGORIES:Boxing
END:VEVENT
BEGIN:VEVENT
DTSTART;TZID=Europe/Berlin:20250226T170000
DTEND;TZID=Europe/Berlin:20250226T180000
DTSTAMP:20260422T041012
CREATED:20230927T065500Z
LAST-MODIFIED:20230927T071151Z
UID:10001654-1740589200-1740592800@www.universum-gym.com
SUMMARY:Kinder Boxen
DESCRIPTION:“Anfänger”
URL:https://www.universum-gym.com/event/kinder-boxen-anfaenger/2025-02-26/
CATEGORIES:Boxing
END:VEVENT
BEGIN:VEVENT
DTSTART;TZID=Europe/Berlin:20250226T180000
DTEND;TZID=Europe/Berlin:20250226T190000
DTSTAMP:20260422T041012
CREATED:20231105T120154Z
LAST-MODIFIED:20231105T120627Z
UID:10005085-1740592800-1740596400@www.universum-gym.com
SUMMARY:Männer Fitness Boxen
DESCRIPTION:
URL:https://www.universum-gym.com/event/fitness-boxen-3/2025-02-26/
CATEGORIES:Boxing
END:VEVENT
BEGIN:VEVENT
DTSTART;TZID=Europe/Berlin:20250226T190000
DTEND;TZID=Europe/Berlin:20250226T200000
DTSTAMP:20260422T041012
CREATED:20231105T121224Z
LAST-MODIFIED:20231105T121346Z
UID:10006231-1740596400-1740600000@www.universum-gym.com
SUMMARY:Frauen Boxen
DESCRIPTION:
URL:https://www.universum-gym.com/event/frauen-boxen-2/2025-02-26/
CATEGORIES:Boxing
END:VEVENT
BEGIN:VEVENT
DTSTART;TZID=Europe/Berlin:20250227T170000
DTEND;TZID=Europe/Berlin:20250227T180000
DTSTAMP:20260422T041012
CREATED:20230927T071439Z
LAST-MODIFIED:20231105T115531Z
UID:10002703-1740675600-1740679200@www.universum-gym.com
SUMMARY:Amateur Boxen
DESCRIPTION:Wettkämpfer
URL:https://www.universum-gym.com/event/amateur-boxen-jugendliche-und-elite-2/2025-02-27/
CATEGORIES:Boxing
END:VEVENT
BEGIN:VEVENT
DTSTART;TZID=Europe/Berlin:20250227T180000
DTEND;TZID=Europe/Berlin:20250227T190000
DTSTAMP:20260422T041012
CREATED:20231105T121524Z
LAST-MODIFIED:20231105T121844Z
UID:10006755-1740679200-1740682800@www.universum-gym.com
SUMMARY:Boxen Technik/Taktik Training
DESCRIPTION:
URL:https://www.universum-gym.com/event/boxen-technik-taktik-training/2025-02-27/
CATEGORIES:Boxing
END:VEVENT
BEGIN:VEVENT
DTSTART;TZID=Europe/Berlin:20250228T170000
DTEND;TZID=Europe/Berlin:20250228T180000
DTSTAMP:20260422T041012
CREATED:20231105T121647Z
LAST-MODIFIED:20231105T121647Z
UID:10007209-1740762000-1740765600@www.universum-gym.com
SUMMARY:Männer Zirkeltraining
DESCRIPTION:
URL:https://www.universum-gym.com/event/maenner-zirkeltraining/2025-02-28/
CATEGORIES:Kurse
END:VEVENT
BEGIN:VEVENT
DTSTART;TZID=Europe/Berlin:20250228T180000
DTEND;TZID=Europe/Berlin:20250228T190000
DTSTAMP:20260422T041012
CREATED:20231105T121747Z
LAST-MODIFIED:20231105T121747Z
UID:10007471-1740765600-1740769200@www.universum-gym.com
SUMMARY:Frauen Zirkeltraining
DESCRIPTION:
URL:https://www.universum-gym.com/event/frauen-zirkeltraining/2025-02-28/
CATEGORIES:Kurse
END:VEVENT
BEGIN:VEVENT
DTSTART;TZID=Europe/Berlin:20250301T103000
DTEND;TZID=Europe/Berlin:20250301T113000
DTSTAMP:20260422T041012
CREATED:20230927T071831Z
LAST-MODIFIED:20230927T071831Z
UID:10004269-1740825000-1740828600@www.universum-gym.com
SUMMARY:Amateur Boxen / Sparring
DESCRIPTION:
URL:https://www.universum-gym.com/event/amateur-boxen-sparring/2025-03-01/
CATEGORIES:Boxing
END:VEVENT
END:VCALENDAR