BEGIN:VCALENDAR
VERSION:2.0
PRODID:-//Universum Gym - ECPv6.2.8.1//NONSGML v1.0//EN
CALSCALE:GREGORIAN
METHOD:PUBLISH
X-WR-CALNAME:Universum Gym
X-ORIGINAL-URL:https://www.universum-gym.com
X-WR-CALDESC:Veranstaltungen für Universum Gym
REFRESH-INTERVAL;VALUE=DURATION:PT1H
X-Robots-Tag:noindex
X-PUBLISHED-TTL:PT1H
BEGIN:VTIMEZONE
TZID:Europe/Berlin
BEGIN:DAYLIGHT
TZOFFSETFROM:+0100
TZOFFSETTO:+0200
TZNAME:CEST
DTSTART:20250330T010000
END:DAYLIGHT
BEGIN:STANDARD
TZOFFSETFROM:+0200
TZOFFSETTO:+0100
TZNAME:CET
DTSTART:20251026T010000
END:STANDARD
END:VTIMEZONE
BEGIN:VEVENT
DTSTART;TZID=Europe/Berlin:20250217T170000
DTEND;TZID=Europe/Berlin:20250217T180000
DTSTAMP:20260422T093225
CREATED:20230927T065500Z
LAST-MODIFIED:20230927T071151Z
UID:10000079-1739811600-1739815200@www.universum-gym.com
SUMMARY:Kinder Boxen
DESCRIPTION:“Anfänger”
URL:https://www.universum-gym.com/event/kinder-boxen-anfaenger/2025-02-17/
CATEGORIES:Boxing
END:VEVENT
BEGIN:VEVENT
DTSTART;TZID=Europe/Berlin:20250217T180000
DTEND;TZID=Europe/Berlin:20250217T190000
DTSTAMP:20260422T093225
CREATED:20231105T120154Z
LAST-MODIFIED:20231105T120627Z
UID:10005357-1739815200-1739818800@www.universum-gym.com
SUMMARY:Männer Fitness Boxen
DESCRIPTION:
URL:https://www.universum-gym.com/event/fitness-boxen-3/2025-02-17/
CATEGORIES:Boxing
END:VEVENT
BEGIN:VEVENT
DTSTART;TZID=Europe/Berlin:20250217T190000
DTEND;TZID=Europe/Berlin:20250217T200000
DTSTAMP:20260422T093225
CREATED:20231105T121224Z
LAST-MODIFIED:20231105T121346Z
UID:10006228-1739818800-1739822400@www.universum-gym.com
SUMMARY:Frauen Boxen
DESCRIPTION:
URL:https://www.universum-gym.com/event/frauen-boxen-2/2025-02-17/
CATEGORIES:Boxing
END:VEVENT
BEGIN:VEVENT
DTSTART;TZID=Europe/Berlin:20250218T170000
DTEND;TZID=Europe/Berlin:20250218T180000
DTSTAMP:20260422T093225
CREATED:20230927T071439Z
LAST-MODIFIED:20231105T115531Z
UID:10001128-1739898000-1739901600@www.universum-gym.com
SUMMARY:Amateur Boxen
DESCRIPTION:Wettkämpfer
URL:https://www.universum-gym.com/event/amateur-boxen-jugendliche-und-elite-2/2025-02-18/
CATEGORIES:Boxing
END:VEVENT
BEGIN:VEVENT
DTSTART;TZID=Europe/Berlin:20250218T180000
DTEND;TZID=Europe/Berlin:20250218T190000
DTSTAMP:20260422T093225
CREATED:20231105T121524Z
LAST-MODIFIED:20231105T121844Z
UID:10006752-1739901600-1739905200@www.universum-gym.com
SUMMARY:Boxen Technik/Taktik Training
DESCRIPTION:
URL:https://www.universum-gym.com/event/boxen-technik-taktik-training/2025-02-18/
CATEGORIES:Boxing
END:VEVENT
BEGIN:VEVENT
DTSTART;TZID=Europe/Berlin:20250219T170000
DTEND;TZID=Europe/Berlin:20250219T180000
DTSTAMP:20260422T093225
CREATED:20230927T065500Z
LAST-MODIFIED:20230927T071151Z
UID:10001653-1739984400-1739988000@www.universum-gym.com
SUMMARY:Kinder Boxen
DESCRIPTION:“Anfänger”
URL:https://www.universum-gym.com/event/kinder-boxen-anfaenger/2025-02-19/
CATEGORIES:Boxing
END:VEVENT
BEGIN:VEVENT
DTSTART;TZID=Europe/Berlin:20250219T180000
DTEND;TZID=Europe/Berlin:20250219T190000
DTSTAMP:20260422T093225
CREATED:20231105T120154Z
LAST-MODIFIED:20231105T120627Z
UID:10005084-1739988000-1739991600@www.universum-gym.com
SUMMARY:Männer Fitness Boxen
DESCRIPTION:
URL:https://www.universum-gym.com/event/fitness-boxen-3/2025-02-19/
CATEGORIES:Boxing
END:VEVENT
BEGIN:VEVENT
DTSTART;TZID=Europe/Berlin:20250219T190000
DTEND;TZID=Europe/Berlin:20250219T200000
DTSTAMP:20260422T093225
CREATED:20231105T121224Z
LAST-MODIFIED:20231105T121346Z
UID:10006229-1739991600-1739995200@www.universum-gym.com
SUMMARY:Frauen Boxen
DESCRIPTION:
URL:https://www.universum-gym.com/event/frauen-boxen-2/2025-02-19/
CATEGORIES:Boxing
END:VEVENT
BEGIN:VEVENT
DTSTART;TZID=Europe/Berlin:20250220T170000
DTEND;TZID=Europe/Berlin:20250220T180000
DTSTAMP:20260422T093225
CREATED:20230927T071439Z
LAST-MODIFIED:20231105T115531Z
UID:10002702-1740070800-1740074400@www.universum-gym.com
SUMMARY:Amateur Boxen
DESCRIPTION:Wettkämpfer
URL:https://www.universum-gym.com/event/amateur-boxen-jugendliche-und-elite-2/2025-02-20/
CATEGORIES:Boxing
END:VEVENT
BEGIN:VEVENT
DTSTART;TZID=Europe/Berlin:20250220T180000
DTEND;TZID=Europe/Berlin:20250220T190000
DTSTAMP:20260422T093225
CREATED:20231105T121524Z
LAST-MODIFIED:20231105T121844Z
UID:10006753-1740074400-1740078000@www.universum-gym.com
SUMMARY:Boxen Technik/Taktik Training
DESCRIPTION:
URL:https://www.universum-gym.com/event/boxen-technik-taktik-training/2025-02-20/
CATEGORIES:Boxing
END:VEVENT
BEGIN:VEVENT
DTSTART;TZID=Europe/Berlin:20250221T170000
DTEND;TZID=Europe/Berlin:20250221T180000
DTSTAMP:20260422T093225
CREATED:20231105T121647Z
LAST-MODIFIED:20231105T121647Z
UID:10007208-1740157200-1740160800@www.universum-gym.com
SUMMARY:Männer Zirkeltraining
DESCRIPTION:
URL:https://www.universum-gym.com/event/maenner-zirkeltraining/2025-02-21/
CATEGORIES:Kurse
END:VEVENT
BEGIN:VEVENT
DTSTART;TZID=Europe/Berlin:20250221T180000
DTEND;TZID=Europe/Berlin:20250221T190000
DTSTAMP:20260422T093225
CREATED:20231105T121747Z
LAST-MODIFIED:20231105T121747Z
UID:10007470-1740160800-1740164400@www.universum-gym.com
SUMMARY:Frauen Zirkeltraining
DESCRIPTION:
URL:https://www.universum-gym.com/event/frauen-zirkeltraining/2025-02-21/
CATEGORIES:Kurse
END:VEVENT
BEGIN:VEVENT
DTSTART;TZID=Europe/Berlin:20250222T103000
DTEND;TZID=Europe/Berlin:20250222T113000
DTSTAMP:20260422T093225
CREATED:20230927T071831Z
LAST-MODIFIED:20230927T071831Z
UID:10004268-1740220200-1740223800@www.universum-gym.com
SUMMARY:Amateur Boxen / Sparring
DESCRIPTION:
URL:https://www.universum-gym.com/event/amateur-boxen-sparring/2025-02-22/
CATEGORIES:Boxing
END:VEVENT
END:VCALENDAR