BEGIN:VCALENDAR
VERSION:2.0
PRODID:-//Universum Gym - ECPv6.2.8.1//NONSGML v1.0//EN
CALSCALE:GREGORIAN
METHOD:PUBLISH
X-ORIGINAL-URL:https://www.universum-gym.com
X-WR-CALDESC:Veranstaltungen für Universum Gym
REFRESH-INTERVAL;VALUE=DURATION:PT1H
X-Robots-Tag:noindex
X-PUBLISHED-TTL:PT1H
BEGIN:VTIMEZONE
TZID:Europe/Berlin
BEGIN:DAYLIGHT
TZOFFSETFROM:+0100
TZOFFSETTO:+0200
TZNAME:CEST
DTSTART:20250330T010000
END:DAYLIGHT
BEGIN:STANDARD
TZOFFSETFROM:+0200
TZOFFSETTO:+0100
TZNAME:CET
DTSTART:20251026T010000
END:STANDARD
END:VTIMEZONE
BEGIN:VEVENT
DTSTART;TZID=Europe/Berlin:20250210T170000
DTEND;TZID=Europe/Berlin:20250210T180000
DTSTAMP:20260422T075026
CREATED:20230927T065500Z
LAST-MODIFIED:20230927T071151Z
UID:10000078-1739206800-1739210400@www.universum-gym.com
SUMMARY:Kinder Boxen
DESCRIPTION:“Anfänger”
URL:https://www.universum-gym.com/event/kinder-boxen-anfaenger/2025-02-10/
CATEGORIES:Boxing
END:VEVENT
BEGIN:VEVENT
DTSTART;TZID=Europe/Berlin:20250210T180000
DTEND;TZID=Europe/Berlin:20250210T190000
DTSTAMP:20260422T075026
CREATED:20231105T120154Z
LAST-MODIFIED:20231105T120627Z
UID:10005356-1739210400-1739214000@www.universum-gym.com
SUMMARY:Männer Fitness Boxen
DESCRIPTION:
URL:https://www.universum-gym.com/event/fitness-boxen-3/2025-02-10/
CATEGORIES:Boxing
END:VEVENT
BEGIN:VEVENT
DTSTART;TZID=Europe/Berlin:20250210T190000
DTEND;TZID=Europe/Berlin:20250210T200000
DTSTAMP:20260422T075026
CREATED:20231105T121224Z
LAST-MODIFIED:20231105T121346Z
UID:10006226-1739214000-1739217600@www.universum-gym.com
SUMMARY:Frauen Boxen
DESCRIPTION:
URL:https://www.universum-gym.com/event/frauen-boxen-2/2025-02-10/
CATEGORIES:Boxing
END:VEVENT
BEGIN:VEVENT
DTSTART;TZID=Europe/Berlin:20250211T170000
DTEND;TZID=Europe/Berlin:20250211T180000
DTSTAMP:20260422T075026
CREATED:20230927T071439Z
LAST-MODIFIED:20231105T115531Z
UID:10001127-1739293200-1739296800@www.universum-gym.com
SUMMARY:Amateur Boxen
DESCRIPTION:Wettkämpfer
URL:https://www.universum-gym.com/event/amateur-boxen-jugendliche-und-elite-2/2025-02-11/
CATEGORIES:Boxing
END:VEVENT
BEGIN:VEVENT
DTSTART;TZID=Europe/Berlin:20250211T180000
DTEND;TZID=Europe/Berlin:20250211T190000
DTSTAMP:20260422T075026
CREATED:20231105T121524Z
LAST-MODIFIED:20231105T121844Z
UID:10006750-1739296800-1739300400@www.universum-gym.com
SUMMARY:Boxen Technik/Taktik Training
DESCRIPTION:
URL:https://www.universum-gym.com/event/boxen-technik-taktik-training/2025-02-11/
CATEGORIES:Boxing
END:VEVENT
BEGIN:VEVENT
DTSTART;TZID=Europe/Berlin:20250212T170000
DTEND;TZID=Europe/Berlin:20250212T180000
DTSTAMP:20260422T075026
CREATED:20230927T065500Z
LAST-MODIFIED:20230927T071151Z
UID:10001652-1739379600-1739383200@www.universum-gym.com
SUMMARY:Kinder Boxen
DESCRIPTION:“Anfänger”
URL:https://www.universum-gym.com/event/kinder-boxen-anfaenger/2025-02-12/
CATEGORIES:Boxing
END:VEVENT
BEGIN:VEVENT
DTSTART;TZID=Europe/Berlin:20250212T180000
DTEND;TZID=Europe/Berlin:20250212T190000
DTSTAMP:20260422T075026
CREATED:20231105T120154Z
LAST-MODIFIED:20231105T120627Z
UID:10005083-1739383200-1739386800@www.universum-gym.com
SUMMARY:Männer Fitness Boxen
DESCRIPTION:
URL:https://www.universum-gym.com/event/fitness-boxen-3/2025-02-12/
CATEGORIES:Boxing
END:VEVENT
BEGIN:VEVENT
DTSTART;TZID=Europe/Berlin:20250212T190000
DTEND;TZID=Europe/Berlin:20250212T200000
DTSTAMP:20260422T075026
CREATED:20231105T121224Z
LAST-MODIFIED:20231105T121346Z
UID:10006227-1739386800-1739390400@www.universum-gym.com
SUMMARY:Frauen Boxen
DESCRIPTION:
URL:https://www.universum-gym.com/event/frauen-boxen-2/2025-02-12/
CATEGORIES:Boxing
END:VEVENT
BEGIN:VEVENT
DTSTART;TZID=Europe/Berlin:20250213T170000
DTEND;TZID=Europe/Berlin:20250213T180000
DTSTAMP:20260422T075026
CREATED:20230927T071439Z
LAST-MODIFIED:20231105T115531Z
UID:10002701-1739466000-1739469600@www.universum-gym.com
SUMMARY:Amateur Boxen
DESCRIPTION:Wettkämpfer
URL:https://www.universum-gym.com/event/amateur-boxen-jugendliche-und-elite-2/2025-02-13/
CATEGORIES:Boxing
END:VEVENT
BEGIN:VEVENT
DTSTART;TZID=Europe/Berlin:20250213T180000
DTEND;TZID=Europe/Berlin:20250213T190000
DTSTAMP:20260422T075026
CREATED:20231105T121524Z
LAST-MODIFIED:20231105T121844Z
UID:10006751-1739469600-1739473200@www.universum-gym.com
SUMMARY:Boxen Technik/Taktik Training
DESCRIPTION:
URL:https://www.universum-gym.com/event/boxen-technik-taktik-training/2025-02-13/
CATEGORIES:Boxing
END:VEVENT
BEGIN:VEVENT
DTSTART;TZID=Europe/Berlin:20250214T170000
DTEND;TZID=Europe/Berlin:20250214T180000
DTSTAMP:20260422T075026
CREATED:20231105T121647Z
LAST-MODIFIED:20231105T121647Z
UID:10007207-1739552400-1739556000@www.universum-gym.com
SUMMARY:Männer Zirkeltraining
DESCRIPTION:
URL:https://www.universum-gym.com/event/maenner-zirkeltraining/2025-02-14/
CATEGORIES:Kurse
END:VEVENT
BEGIN:VEVENT
DTSTART;TZID=Europe/Berlin:20250214T180000
DTEND;TZID=Europe/Berlin:20250214T190000
DTSTAMP:20260422T075026
CREATED:20231105T121747Z
LAST-MODIFIED:20231105T121747Z
UID:10007469-1739556000-1739559600@www.universum-gym.com
SUMMARY:Frauen Zirkeltraining
DESCRIPTION:
URL:https://www.universum-gym.com/event/frauen-zirkeltraining/2025-02-14/
CATEGORIES:Kurse
END:VEVENT
BEGIN:VEVENT
DTSTART;TZID=Europe/Berlin:20250215T103000
DTEND;TZID=Europe/Berlin:20250215T113000
DTSTAMP:20260422T075026
CREATED:20230927T071831Z
LAST-MODIFIED:20230927T071831Z
UID:10004267-1739615400-1739619000@www.universum-gym.com
SUMMARY:Amateur Boxen / Sparring
DESCRIPTION:
URL:https://www.universum-gym.com/event/amateur-boxen-sparring/2025-02-15/
CATEGORIES:Boxing
END:VEVENT
END:VCALENDAR