BEGIN:VCALENDAR
VERSION:2.0
PRODID:-//Universum Gym - ECPv6.2.8.1//NONSGML v1.0//EN
CALSCALE:GREGORIAN
METHOD:PUBLISH
X-ORIGINAL-URL:https://www.universum-gym.com
X-WR-CALDESC:Veranstaltungen für Universum Gym
REFRESH-INTERVAL;VALUE=DURATION:PT1H
X-Robots-Tag:noindex
X-PUBLISHED-TTL:PT1H
BEGIN:VTIMEZONE
TZID:Europe/Berlin
BEGIN:DAYLIGHT
TZOFFSETFROM:+0100
TZOFFSETTO:+0200
TZNAME:CEST
DTSTART:20250330T010000
END:DAYLIGHT
BEGIN:STANDARD
TZOFFSETFROM:+0200
TZOFFSETTO:+0100
TZNAME:CET
DTSTART:20251026T010000
END:STANDARD
END:VTIMEZONE
BEGIN:VEVENT
DTSTART;TZID=Europe/Berlin:20250127T170000
DTEND;TZID=Europe/Berlin:20250127T180000
DTSTAMP:20260424T135310
CREATED:20230927T065500Z
LAST-MODIFIED:20230927T071151Z
UID:10000076-1737997200-1738000800@www.universum-gym.com
SUMMARY:Kinder Boxen
DESCRIPTION:“Anfänger”
URL:https://www.universum-gym.com/event/kinder-boxen-anfaenger/2025-01-27/
CATEGORIES:Boxing
END:VEVENT
BEGIN:VEVENT
DTSTART;TZID=Europe/Berlin:20250127T180000
DTEND;TZID=Europe/Berlin:20250127T190000
DTSTAMP:20260424T135310
CREATED:20231105T120154Z
LAST-MODIFIED:20231105T120627Z
UID:10005354-1738000800-1738004400@www.universum-gym.com
SUMMARY:Männer Fitness Boxen
DESCRIPTION:
URL:https://www.universum-gym.com/event/fitness-boxen-3/2025-01-27/
CATEGORIES:Boxing
END:VEVENT
BEGIN:VEVENT
DTSTART;TZID=Europe/Berlin:20250127T190000
DTEND;TZID=Europe/Berlin:20250127T200000
DTSTAMP:20260424T135310
CREATED:20231105T121224Z
LAST-MODIFIED:20231105T121346Z
UID:10006222-1738004400-1738008000@www.universum-gym.com
SUMMARY:Frauen Boxen
DESCRIPTION:
URL:https://www.universum-gym.com/event/frauen-boxen-2/2025-01-27/
CATEGORIES:Boxing
END:VEVENT
BEGIN:VEVENT
DTSTART;TZID=Europe/Berlin:20250128T170000
DTEND;TZID=Europe/Berlin:20250128T180000
DTSTAMP:20260424T135310
CREATED:20230927T071439Z
LAST-MODIFIED:20231105T115531Z
UID:10001125-1738083600-1738087200@www.universum-gym.com
SUMMARY:Amateur Boxen
DESCRIPTION:Wettkämpfer
URL:https://www.universum-gym.com/event/amateur-boxen-jugendliche-und-elite-2/2025-01-28/
CATEGORIES:Boxing
END:VEVENT
BEGIN:VEVENT
DTSTART;TZID=Europe/Berlin:20250128T180000
DTEND;TZID=Europe/Berlin:20250128T190000
DTSTAMP:20260424T135310
CREATED:20231105T121524Z
LAST-MODIFIED:20231105T121844Z
UID:10006746-1738087200-1738090800@www.universum-gym.com
SUMMARY:Boxen Technik/Taktik Training
DESCRIPTION:
URL:https://www.universum-gym.com/event/boxen-technik-taktik-training/2025-01-28/
CATEGORIES:Boxing
END:VEVENT
BEGIN:VEVENT
DTSTART;TZID=Europe/Berlin:20250129T170000
DTEND;TZID=Europe/Berlin:20250129T180000
DTSTAMP:20260424T135310
CREATED:20230927T065500Z
LAST-MODIFIED:20230927T071151Z
UID:10001650-1738170000-1738173600@www.universum-gym.com
SUMMARY:Kinder Boxen
DESCRIPTION:“Anfänger”
URL:https://www.universum-gym.com/event/kinder-boxen-anfaenger/2025-01-29/
CATEGORIES:Boxing
END:VEVENT
BEGIN:VEVENT
DTSTART;TZID=Europe/Berlin:20250129T180000
DTEND;TZID=Europe/Berlin:20250129T190000
DTSTAMP:20260424T135310
CREATED:20231105T120154Z
LAST-MODIFIED:20231105T120627Z
UID:10005081-1738173600-1738177200@www.universum-gym.com
SUMMARY:Männer Fitness Boxen
DESCRIPTION:
URL:https://www.universum-gym.com/event/fitness-boxen-3/2025-01-29/
CATEGORIES:Boxing
END:VEVENT
BEGIN:VEVENT
DTSTART;TZID=Europe/Berlin:20250129T190000
DTEND;TZID=Europe/Berlin:20250129T200000
DTSTAMP:20260424T135310
CREATED:20231105T121224Z
LAST-MODIFIED:20231105T121346Z
UID:10006223-1738177200-1738180800@www.universum-gym.com
SUMMARY:Frauen Boxen
DESCRIPTION:
URL:https://www.universum-gym.com/event/frauen-boxen-2/2025-01-29/
CATEGORIES:Boxing
END:VEVENT
BEGIN:VEVENT
DTSTART;TZID=Europe/Berlin:20250130T170000
DTEND;TZID=Europe/Berlin:20250130T180000
DTSTAMP:20260424T135310
CREATED:20230927T071439Z
LAST-MODIFIED:20231105T115531Z
UID:10002699-1738256400-1738260000@www.universum-gym.com
SUMMARY:Amateur Boxen
DESCRIPTION:Wettkämpfer
URL:https://www.universum-gym.com/event/amateur-boxen-jugendliche-und-elite-2/2025-01-30/
CATEGORIES:Boxing
END:VEVENT
BEGIN:VEVENT
DTSTART;TZID=Europe/Berlin:20250130T180000
DTEND;TZID=Europe/Berlin:20250130T190000
DTSTAMP:20260424T135310
CREATED:20231105T121524Z
LAST-MODIFIED:20231105T121844Z
UID:10006747-1738260000-1738263600@www.universum-gym.com
SUMMARY:Boxen Technik/Taktik Training
DESCRIPTION:
URL:https://www.universum-gym.com/event/boxen-technik-taktik-training/2025-01-30/
CATEGORIES:Boxing
END:VEVENT
BEGIN:VEVENT
DTSTART;TZID=Europe/Berlin:20250131T170000
DTEND;TZID=Europe/Berlin:20250131T180000
DTSTAMP:20260424T135310
CREATED:20231105T121647Z
LAST-MODIFIED:20231105T121647Z
UID:10007205-1738342800-1738346400@www.universum-gym.com
SUMMARY:Männer Zirkeltraining
DESCRIPTION:
URL:https://www.universum-gym.com/event/maenner-zirkeltraining/2025-01-31/
CATEGORIES:Kurse
END:VEVENT
BEGIN:VEVENT
DTSTART;TZID=Europe/Berlin:20250131T180000
DTEND;TZID=Europe/Berlin:20250131T190000
DTSTAMP:20260424T135310
CREATED:20231105T121747Z
LAST-MODIFIED:20231105T121747Z
UID:10007467-1738346400-1738350000@www.universum-gym.com
SUMMARY:Frauen Zirkeltraining
DESCRIPTION:
URL:https://www.universum-gym.com/event/frauen-zirkeltraining/2025-01-31/
CATEGORIES:Kurse
END:VEVENT
BEGIN:VEVENT
DTSTART;TZID=Europe/Berlin:20250201T103000
DTEND;TZID=Europe/Berlin:20250201T113000
DTSTAMP:20260424T135310
CREATED:20230927T071831Z
LAST-MODIFIED:20230927T071831Z
UID:10004265-1738405800-1738409400@www.universum-gym.com
SUMMARY:Amateur Boxen / Sparring
DESCRIPTION:
URL:https://www.universum-gym.com/event/amateur-boxen-sparring/2025-02-01/
CATEGORIES:Boxing
END:VEVENT
END:VCALENDAR