BEGIN:VCALENDAR
VERSION:2.0
PRODID:-//Universum Gym - ECPv6.2.8.1//NONSGML v1.0//EN
CALSCALE:GREGORIAN
METHOD:PUBLISH
X-ORIGINAL-URL:https://www.universum-gym.com
X-WR-CALDESC:Veranstaltungen für Universum Gym
REFRESH-INTERVAL;VALUE=DURATION:PT1H
X-Robots-Tag:noindex
X-PUBLISHED-TTL:PT1H
BEGIN:VTIMEZONE
TZID:Europe/Berlin
BEGIN:DAYLIGHT
TZOFFSETFROM:+0100
TZOFFSETTO:+0200
TZNAME:CEST
DTSTART:20250330T010000
END:DAYLIGHT
BEGIN:STANDARD
TZOFFSETFROM:+0200
TZOFFSETTO:+0100
TZNAME:CET
DTSTART:20251026T010000
END:STANDARD
END:VTIMEZONE
BEGIN:VEVENT
DTSTART;TZID=Europe/Berlin:20250113T170000
DTEND;TZID=Europe/Berlin:20250113T180000
DTSTAMP:20260424T172526
CREATED:20230927T065500Z
LAST-MODIFIED:20230927T071151Z
UID:10000074-1736787600-1736791200@www.universum-gym.com
SUMMARY:Kinder Boxen
DESCRIPTION:“Anfänger”
URL:https://www.universum-gym.com/event/kinder-boxen-anfaenger/2025-01-13/
CATEGORIES:Boxing
END:VEVENT
BEGIN:VEVENT
DTSTART;TZID=Europe/Berlin:20250113T180000
DTEND;TZID=Europe/Berlin:20250113T190000
DTSTAMP:20260424T172526
CREATED:20231105T120154Z
LAST-MODIFIED:20231105T120627Z
UID:10005352-1736791200-1736794800@www.universum-gym.com
SUMMARY:Männer Fitness Boxen
DESCRIPTION:
URL:https://www.universum-gym.com/event/fitness-boxen-3/2025-01-13/
CATEGORIES:Boxing
END:VEVENT
BEGIN:VEVENT
DTSTART;TZID=Europe/Berlin:20250113T190000
DTEND;TZID=Europe/Berlin:20250113T200000
DTSTAMP:20260424T172526
CREATED:20231105T121224Z
LAST-MODIFIED:20231105T121346Z
UID:10006218-1736794800-1736798400@www.universum-gym.com
SUMMARY:Frauen Boxen
DESCRIPTION:
URL:https://www.universum-gym.com/event/frauen-boxen-2/2025-01-13/
CATEGORIES:Boxing
END:VEVENT
BEGIN:VEVENT
DTSTART;TZID=Europe/Berlin:20250114T170000
DTEND;TZID=Europe/Berlin:20250114T180000
DTSTAMP:20260424T172526
CREATED:20230927T071439Z
LAST-MODIFIED:20231105T115531Z
UID:10001123-1736874000-1736877600@www.universum-gym.com
SUMMARY:Amateur Boxen
DESCRIPTION:Wettkämpfer
URL:https://www.universum-gym.com/event/amateur-boxen-jugendliche-und-elite-2/2025-01-14/
CATEGORIES:Boxing
END:VEVENT
BEGIN:VEVENT
DTSTART;TZID=Europe/Berlin:20250114T180000
DTEND;TZID=Europe/Berlin:20250114T190000
DTSTAMP:20260424T172526
CREATED:20231105T121524Z
LAST-MODIFIED:20231105T121844Z
UID:10006742-1736877600-1736881200@www.universum-gym.com
SUMMARY:Boxen Technik/Taktik Training
DESCRIPTION:
URL:https://www.universum-gym.com/event/boxen-technik-taktik-training/2025-01-14/
CATEGORIES:Boxing
END:VEVENT
BEGIN:VEVENT
DTSTART;TZID=Europe/Berlin:20250115T170000
DTEND;TZID=Europe/Berlin:20250115T180000
DTSTAMP:20260424T172526
CREATED:20230927T065500Z
LAST-MODIFIED:20230927T071151Z
UID:10001648-1736960400-1736964000@www.universum-gym.com
SUMMARY:Kinder Boxen
DESCRIPTION:“Anfänger”
URL:https://www.universum-gym.com/event/kinder-boxen-anfaenger/2025-01-15/
CATEGORIES:Boxing
END:VEVENT
BEGIN:VEVENT
DTSTART;TZID=Europe/Berlin:20250115T180000
DTEND;TZID=Europe/Berlin:20250115T190000
DTSTAMP:20260424T172526
CREATED:20231105T120154Z
LAST-MODIFIED:20231105T120627Z
UID:10005079-1736964000-1736967600@www.universum-gym.com
SUMMARY:Männer Fitness Boxen
DESCRIPTION:
URL:https://www.universum-gym.com/event/fitness-boxen-3/2025-01-15/
CATEGORIES:Boxing
END:VEVENT
BEGIN:VEVENT
DTSTART;TZID=Europe/Berlin:20250115T190000
DTEND;TZID=Europe/Berlin:20250115T200000
DTSTAMP:20260424T172526
CREATED:20231105T121224Z
LAST-MODIFIED:20231105T121346Z
UID:10006219-1736967600-1736971200@www.universum-gym.com
SUMMARY:Frauen Boxen
DESCRIPTION:
URL:https://www.universum-gym.com/event/frauen-boxen-2/2025-01-15/
CATEGORIES:Boxing
END:VEVENT
BEGIN:VEVENT
DTSTART;TZID=Europe/Berlin:20250116T170000
DTEND;TZID=Europe/Berlin:20250116T180000
DTSTAMP:20260424T172526
CREATED:20230927T071439Z
LAST-MODIFIED:20231105T115531Z
UID:10002697-1737046800-1737050400@www.universum-gym.com
SUMMARY:Amateur Boxen
DESCRIPTION:Wettkämpfer
URL:https://www.universum-gym.com/event/amateur-boxen-jugendliche-und-elite-2/2025-01-16/
CATEGORIES:Boxing
END:VEVENT
BEGIN:VEVENT
DTSTART;TZID=Europe/Berlin:20250116T180000
DTEND;TZID=Europe/Berlin:20250116T190000
DTSTAMP:20260424T172526
CREATED:20231105T121524Z
LAST-MODIFIED:20231105T121844Z
UID:10006743-1737050400-1737054000@www.universum-gym.com
SUMMARY:Boxen Technik/Taktik Training
DESCRIPTION:
URL:https://www.universum-gym.com/event/boxen-technik-taktik-training/2025-01-16/
CATEGORIES:Boxing
END:VEVENT
BEGIN:VEVENT
DTSTART;TZID=Europe/Berlin:20250117T170000
DTEND;TZID=Europe/Berlin:20250117T180000
DTSTAMP:20260424T172526
CREATED:20231105T121647Z
LAST-MODIFIED:20231105T121647Z
UID:10007203-1737133200-1737136800@www.universum-gym.com
SUMMARY:Männer Zirkeltraining
DESCRIPTION:
URL:https://www.universum-gym.com/event/maenner-zirkeltraining/2025-01-17/
CATEGORIES:Kurse
END:VEVENT
BEGIN:VEVENT
DTSTART;TZID=Europe/Berlin:20250117T180000
DTEND;TZID=Europe/Berlin:20250117T190000
DTSTAMP:20260424T172526
CREATED:20231105T121747Z
LAST-MODIFIED:20231105T121747Z
UID:10007465-1737136800-1737140400@www.universum-gym.com
SUMMARY:Frauen Zirkeltraining
DESCRIPTION:
URL:https://www.universum-gym.com/event/frauen-zirkeltraining/2025-01-17/
CATEGORIES:Kurse
END:VEVENT
BEGIN:VEVENT
DTSTART;TZID=Europe/Berlin:20250118T103000
DTEND;TZID=Europe/Berlin:20250118T113000
DTSTAMP:20260424T172526
CREATED:20230927T071831Z
LAST-MODIFIED:20230927T071831Z
UID:10004263-1737196200-1737199800@www.universum-gym.com
SUMMARY:Amateur Boxen / Sparring
DESCRIPTION:
URL:https://www.universum-gym.com/event/amateur-boxen-sparring/2025-01-18/
CATEGORIES:Boxing
END:VEVENT
END:VCALENDAR