BEGIN:VCALENDAR
VERSION:2.0
PRODID:-//Universum Gym - ECPv6.2.8.1//NONSGML v1.0//EN
CALSCALE:GREGORIAN
METHOD:PUBLISH
X-WR-CALNAME:Universum Gym
X-ORIGINAL-URL:https://www.universum-gym.com
X-WR-CALDESC:Veranstaltungen für Universum Gym
REFRESH-INTERVAL;VALUE=DURATION:PT1H
X-Robots-Tag:noindex
X-PUBLISHED-TTL:PT1H
BEGIN:VTIMEZONE
TZID:Europe/Berlin
BEGIN:DAYLIGHT
TZOFFSETFROM:+0100
TZOFFSETTO:+0200
TZNAME:CEST
DTSTART:20240331T010000
END:DAYLIGHT
BEGIN:STANDARD
TZOFFSETFROM:+0200
TZOFFSETTO:+0100
TZNAME:CET
DTSTART:20241027T010000
END:STANDARD
BEGIN:DAYLIGHT
TZOFFSETFROM:+0100
TZOFFSETTO:+0200
TZNAME:CEST
DTSTART:20250330T010000
END:DAYLIGHT
BEGIN:STANDARD
TZOFFSETFROM:+0200
TZOFFSETTO:+0100
TZNAME:CET
DTSTART:20251026T010000
END:STANDARD
END:VTIMEZONE
BEGIN:VEVENT
DTSTART;TZID=Europe/Berlin:20241230T170000
DTEND;TZID=Europe/Berlin:20241230T180000
DTSTAMP:20260424T175205
CREATED:20230927T065500Z
LAST-MODIFIED:20230927T071151Z
UID:10000072-1735578000-1735581600@www.universum-gym.com
SUMMARY:Kinder Boxen
DESCRIPTION:“Anfänger”
URL:https://www.universum-gym.com/event/kinder-boxen-anfaenger/2024-12-30/
CATEGORIES:Boxing
END:VEVENT
BEGIN:VEVENT
DTSTART;TZID=Europe/Berlin:20241230T180000
DTEND;TZID=Europe/Berlin:20241230T190000
DTSTAMP:20260424T175205
CREATED:20231105T120154Z
LAST-MODIFIED:20231105T120627Z
UID:10005350-1735581600-1735585200@www.universum-gym.com
SUMMARY:Männer Fitness Boxen
DESCRIPTION:
URL:https://www.universum-gym.com/event/fitness-boxen-3/2024-12-30/
CATEGORIES:Boxing
END:VEVENT
BEGIN:VEVENT
DTSTART;TZID=Europe/Berlin:20241230T190000
DTEND;TZID=Europe/Berlin:20241230T200000
DTSTAMP:20260424T175205
CREATED:20231105T121224Z
LAST-MODIFIED:20231105T121346Z
UID:10006214-1735585200-1735588800@www.universum-gym.com
SUMMARY:Frauen Boxen
DESCRIPTION:
URL:https://www.universum-gym.com/event/frauen-boxen-2/2024-12-30/
CATEGORIES:Boxing
END:VEVENT
BEGIN:VEVENT
DTSTART;TZID=Europe/Berlin:20241231T170000
DTEND;TZID=Europe/Berlin:20241231T180000
DTSTAMP:20260424T175205
CREATED:20230927T071439Z
LAST-MODIFIED:20231105T115531Z
UID:10001121-1735664400-1735668000@www.universum-gym.com
SUMMARY:Amateur Boxen
DESCRIPTION:Wettkämpfer
URL:https://www.universum-gym.com/event/amateur-boxen-jugendliche-und-elite-2/2024-12-31/
CATEGORIES:Boxing
END:VEVENT
BEGIN:VEVENT
DTSTART;TZID=Europe/Berlin:20241231T180000
DTEND;TZID=Europe/Berlin:20241231T190000
DTSTAMP:20260424T175205
CREATED:20231105T121524Z
LAST-MODIFIED:20231105T121844Z
UID:10006738-1735668000-1735671600@www.universum-gym.com
SUMMARY:Boxen Technik/Taktik Training
DESCRIPTION:
URL:https://www.universum-gym.com/event/boxen-technik-taktik-training/2024-12-31/
CATEGORIES:Boxing
END:VEVENT
BEGIN:VEVENT
DTSTART;TZID=Europe/Berlin:20250101T170000
DTEND;TZID=Europe/Berlin:20250101T180000
DTSTAMP:20260424T175205
CREATED:20230927T065500Z
LAST-MODIFIED:20230927T071151Z
UID:10001646-1735750800-1735754400@www.universum-gym.com
SUMMARY:Kinder Boxen
DESCRIPTION:“Anfänger”
URL:https://www.universum-gym.com/event/kinder-boxen-anfaenger/2025-01-01/
CATEGORIES:Boxing
END:VEVENT
BEGIN:VEVENT
DTSTART;TZID=Europe/Berlin:20250101T180000
DTEND;TZID=Europe/Berlin:20250101T190000
DTSTAMP:20260424T175205
CREATED:20231105T120154Z
LAST-MODIFIED:20231105T120627Z
UID:10005077-1735754400-1735758000@www.universum-gym.com
SUMMARY:Männer Fitness Boxen
DESCRIPTION:
URL:https://www.universum-gym.com/event/fitness-boxen-3/2025-01-01/
CATEGORIES:Boxing
END:VEVENT
BEGIN:VEVENT
DTSTART;TZID=Europe/Berlin:20250101T190000
DTEND;TZID=Europe/Berlin:20250101T200000
DTSTAMP:20260424T175205
CREATED:20231105T121224Z
LAST-MODIFIED:20231105T121346Z
UID:10006215-1735758000-1735761600@www.universum-gym.com
SUMMARY:Frauen Boxen
DESCRIPTION:
URL:https://www.universum-gym.com/event/frauen-boxen-2/2025-01-01/
CATEGORIES:Boxing
END:VEVENT
BEGIN:VEVENT
DTSTART;TZID=Europe/Berlin:20250102T170000
DTEND;TZID=Europe/Berlin:20250102T180000
DTSTAMP:20260424T175205
CREATED:20230927T071439Z
LAST-MODIFIED:20231105T115531Z
UID:10002695-1735837200-1735840800@www.universum-gym.com
SUMMARY:Amateur Boxen
DESCRIPTION:Wettkämpfer
URL:https://www.universum-gym.com/event/amateur-boxen-jugendliche-und-elite-2/2025-01-02/
CATEGORIES:Boxing
END:VEVENT
BEGIN:VEVENT
DTSTART;TZID=Europe/Berlin:20250102T180000
DTEND;TZID=Europe/Berlin:20250102T190000
DTSTAMP:20260424T175205
CREATED:20231105T121524Z
LAST-MODIFIED:20231105T121844Z
UID:10006739-1735840800-1735844400@www.universum-gym.com
SUMMARY:Boxen Technik/Taktik Training
DESCRIPTION:
URL:https://www.universum-gym.com/event/boxen-technik-taktik-training/2025-01-02/
CATEGORIES:Boxing
END:VEVENT
BEGIN:VEVENT
DTSTART;TZID=Europe/Berlin:20250103T170000
DTEND;TZID=Europe/Berlin:20250103T180000
DTSTAMP:20260424T175205
CREATED:20231105T121647Z
LAST-MODIFIED:20231105T121647Z
UID:10007201-1735923600-1735927200@www.universum-gym.com
SUMMARY:Männer Zirkeltraining
DESCRIPTION:
URL:https://www.universum-gym.com/event/maenner-zirkeltraining/2025-01-03/
CATEGORIES:Kurse
END:VEVENT
BEGIN:VEVENT
DTSTART;TZID=Europe/Berlin:20250103T180000
DTEND;TZID=Europe/Berlin:20250103T190000
DTSTAMP:20260424T175205
CREATED:20231105T121747Z
LAST-MODIFIED:20231105T121747Z
UID:10007463-1735927200-1735930800@www.universum-gym.com
SUMMARY:Frauen Zirkeltraining
DESCRIPTION:
URL:https://www.universum-gym.com/event/frauen-zirkeltraining/2025-01-03/
CATEGORIES:Kurse
END:VEVENT
BEGIN:VEVENT
DTSTART;TZID=Europe/Berlin:20250104T103000
DTEND;TZID=Europe/Berlin:20250104T113000
DTSTAMP:20260424T175205
CREATED:20230927T071831Z
LAST-MODIFIED:20230927T071831Z
UID:10004261-1735986600-1735990200@www.universum-gym.com
SUMMARY:Amateur Boxen / Sparring
DESCRIPTION:
URL:https://www.universum-gym.com/event/amateur-boxen-sparring/2025-01-04/
CATEGORIES:Boxing
END:VEVENT
END:VCALENDAR