BEGIN:VCALENDAR
VERSION:2.0
PRODID:-//Universum Gym - ECPv6.2.8.1//NONSGML v1.0//EN
CALSCALE:GREGORIAN
METHOD:PUBLISH
X-ORIGINAL-URL:https://www.universum-gym.com
X-WR-CALDESC:Veranstaltungen für Universum Gym
REFRESH-INTERVAL;VALUE=DURATION:PT1H
X-Robots-Tag:noindex
X-PUBLISHED-TTL:PT1H
BEGIN:VTIMEZONE
TZID:Europe/Berlin
BEGIN:DAYLIGHT
TZOFFSETFROM:+0100
TZOFFSETTO:+0200
TZNAME:CEST
DTSTART:20240331T010000
END:DAYLIGHT
BEGIN:STANDARD
TZOFFSETFROM:+0200
TZOFFSETTO:+0100
TZNAME:CET
DTSTART:20241027T010000
END:STANDARD
END:VTIMEZONE
BEGIN:VEVENT
DTSTART;TZID=Europe/Berlin:20241209T170000
DTEND;TZID=Europe/Berlin:20241209T180000
DTSTAMP:20260425T025243
CREATED:20230927T065500Z
LAST-MODIFIED:20230927T071151Z
UID:10000069-1733763600-1733767200@www.universum-gym.com
SUMMARY:Kinder Boxen
DESCRIPTION:“Anfänger”
URL:https://www.universum-gym.com/event/kinder-boxen-anfaenger/2024-12-09/
CATEGORIES:Boxing
END:VEVENT
BEGIN:VEVENT
DTSTART;TZID=Europe/Berlin:20241209T180000
DTEND;TZID=Europe/Berlin:20241209T190000
DTSTAMP:20260425T025243
CREATED:20231105T120154Z
LAST-MODIFIED:20231105T120627Z
UID:10005347-1733767200-1733770800@www.universum-gym.com
SUMMARY:Männer Fitness Boxen
DESCRIPTION:
URL:https://www.universum-gym.com/event/fitness-boxen-3/2024-12-09/
CATEGORIES:Boxing
END:VEVENT
BEGIN:VEVENT
DTSTART;TZID=Europe/Berlin:20241209T190000
DTEND;TZID=Europe/Berlin:20241209T200000
DTSTAMP:20260425T025243
CREATED:20231105T121224Z
LAST-MODIFIED:20231105T121346Z
UID:10006208-1733770800-1733774400@www.universum-gym.com
SUMMARY:Frauen Boxen
DESCRIPTION:
URL:https://www.universum-gym.com/event/frauen-boxen-2/2024-12-09/
CATEGORIES:Boxing
END:VEVENT
BEGIN:VEVENT
DTSTART;TZID=Europe/Berlin:20241210T170000
DTEND;TZID=Europe/Berlin:20241210T180000
DTSTAMP:20260425T025243
CREATED:20230927T071439Z
LAST-MODIFIED:20231105T115531Z
UID:10001118-1733850000-1733853600@www.universum-gym.com
SUMMARY:Amateur Boxen
DESCRIPTION:Wettkämpfer
URL:https://www.universum-gym.com/event/amateur-boxen-jugendliche-und-elite-2/2024-12-10/
CATEGORIES:Boxing
END:VEVENT
BEGIN:VEVENT
DTSTART;TZID=Europe/Berlin:20241210T180000
DTEND;TZID=Europe/Berlin:20241210T190000
DTSTAMP:20260425T025243
CREATED:20231105T121524Z
LAST-MODIFIED:20231105T121844Z
UID:10006732-1733853600-1733857200@www.universum-gym.com
SUMMARY:Boxen Technik/Taktik Training
DESCRIPTION:
URL:https://www.universum-gym.com/event/boxen-technik-taktik-training/2024-12-10/
CATEGORIES:Boxing
END:VEVENT
BEGIN:VEVENT
DTSTART;TZID=Europe/Berlin:20241211T170000
DTEND;TZID=Europe/Berlin:20241211T180000
DTSTAMP:20260425T025243
CREATED:20230927T065500Z
LAST-MODIFIED:20230927T071151Z
UID:10001643-1733936400-1733940000@www.universum-gym.com
SUMMARY:Kinder Boxen
DESCRIPTION:“Anfänger”
URL:https://www.universum-gym.com/event/kinder-boxen-anfaenger/2024-12-11/
CATEGORIES:Boxing
END:VEVENT
BEGIN:VEVENT
DTSTART;TZID=Europe/Berlin:20241211T180000
DTEND;TZID=Europe/Berlin:20241211T190000
DTSTAMP:20260425T025243
CREATED:20231105T120154Z
LAST-MODIFIED:20231105T120627Z
UID:10005074-1733940000-1733943600@www.universum-gym.com
SUMMARY:Männer Fitness Boxen
DESCRIPTION:
URL:https://www.universum-gym.com/event/fitness-boxen-3/2024-12-11/
CATEGORIES:Boxing
END:VEVENT
BEGIN:VEVENT
DTSTART;TZID=Europe/Berlin:20241211T190000
DTEND;TZID=Europe/Berlin:20241211T200000
DTSTAMP:20260425T025243
CREATED:20231105T121224Z
LAST-MODIFIED:20231105T121346Z
UID:10006209-1733943600-1733947200@www.universum-gym.com
SUMMARY:Frauen Boxen
DESCRIPTION:
URL:https://www.universum-gym.com/event/frauen-boxen-2/2024-12-11/
CATEGORIES:Boxing
END:VEVENT
BEGIN:VEVENT
DTSTART;TZID=Europe/Berlin:20241212T170000
DTEND;TZID=Europe/Berlin:20241212T180000
DTSTAMP:20260425T025243
CREATED:20230927T071439Z
LAST-MODIFIED:20231105T115531Z
UID:10002692-1734022800-1734026400@www.universum-gym.com
SUMMARY:Amateur Boxen
DESCRIPTION:Wettkämpfer
URL:https://www.universum-gym.com/event/amateur-boxen-jugendliche-und-elite-2/2024-12-12/
CATEGORIES:Boxing
END:VEVENT
BEGIN:VEVENT
DTSTART;TZID=Europe/Berlin:20241212T180000
DTEND;TZID=Europe/Berlin:20241212T190000
DTSTAMP:20260425T025243
CREATED:20231105T121524Z
LAST-MODIFIED:20231105T121844Z
UID:10006733-1734026400-1734030000@www.universum-gym.com
SUMMARY:Boxen Technik/Taktik Training
DESCRIPTION:
URL:https://www.universum-gym.com/event/boxen-technik-taktik-training/2024-12-12/
CATEGORIES:Boxing
END:VEVENT
BEGIN:VEVENT
DTSTART;TZID=Europe/Berlin:20241213T170000
DTEND;TZID=Europe/Berlin:20241213T180000
DTSTAMP:20260425T025243
CREATED:20231105T121647Z
LAST-MODIFIED:20231105T121647Z
UID:10007198-1734109200-1734112800@www.universum-gym.com
SUMMARY:Männer Zirkeltraining
DESCRIPTION:
URL:https://www.universum-gym.com/event/maenner-zirkeltraining/2024-12-13/
CATEGORIES:Kurse
END:VEVENT
BEGIN:VEVENT
DTSTART;TZID=Europe/Berlin:20241213T180000
DTEND;TZID=Europe/Berlin:20241213T190000
DTSTAMP:20260425T025243
CREATED:20231105T121747Z
LAST-MODIFIED:20231105T121747Z
UID:10007460-1734112800-1734116400@www.universum-gym.com
SUMMARY:Frauen Zirkeltraining
DESCRIPTION:
URL:https://www.universum-gym.com/event/frauen-zirkeltraining/2024-12-13/
CATEGORIES:Kurse
END:VEVENT
BEGIN:VEVENT
DTSTART;TZID=Europe/Berlin:20241214T103000
DTEND;TZID=Europe/Berlin:20241214T113000
DTSTAMP:20260425T025243
CREATED:20230927T071831Z
LAST-MODIFIED:20230927T071831Z
UID:10004258-1734172200-1734175800@www.universum-gym.com
SUMMARY:Amateur Boxen / Sparring
DESCRIPTION:
URL:https://www.universum-gym.com/event/amateur-boxen-sparring/2024-12-14/
CATEGORIES:Boxing
END:VEVENT
END:VCALENDAR