BEGIN:VCALENDAR
VERSION:2.0
PRODID:-//Universum Gym - ECPv6.2.8.1//NONSGML v1.0//EN
CALSCALE:GREGORIAN
METHOD:PUBLISH
X-ORIGINAL-URL:https://www.universum-gym.com
X-WR-CALDESC:Veranstaltungen für Universum Gym
REFRESH-INTERVAL;VALUE=DURATION:PT1H
X-Robots-Tag:noindex
X-PUBLISHED-TTL:PT1H
BEGIN:VTIMEZONE
TZID:Europe/Berlin
BEGIN:DAYLIGHT
TZOFFSETFROM:+0100
TZOFFSETTO:+0200
TZNAME:CEST
DTSTART:20240331T010000
END:DAYLIGHT
BEGIN:STANDARD
TZOFFSETFROM:+0200
TZOFFSETTO:+0100
TZNAME:CET
DTSTART:20241027T010000
END:STANDARD
END:VTIMEZONE
BEGIN:VEVENT
DTSTART;TZID=Europe/Berlin:20241104T170000
DTEND;TZID=Europe/Berlin:20241104T180000
DTSTAMP:20260425T134357
CREATED:20230927T065500Z
LAST-MODIFIED:20230927T071151Z
UID:10000064-1730739600-1730743200@www.universum-gym.com
SUMMARY:Kinder Boxen
DESCRIPTION:“Anfänger”
URL:https://www.universum-gym.com/event/kinder-boxen-anfaenger/2024-11-04/
CATEGORIES:Boxing
END:VEVENT
BEGIN:VEVENT
DTSTART;TZID=Europe/Berlin:20241104T180000
DTEND;TZID=Europe/Berlin:20241104T190000
DTSTAMP:20260425T134357
CREATED:20231105T120154Z
LAST-MODIFIED:20231105T120627Z
UID:10005342-1730743200-1730746800@www.universum-gym.com
SUMMARY:Männer Fitness Boxen
DESCRIPTION:
URL:https://www.universum-gym.com/event/fitness-boxen-3/2024-11-04/
CATEGORIES:Boxing
END:VEVENT
BEGIN:VEVENT
DTSTART;TZID=Europe/Berlin:20241104T190000
DTEND;TZID=Europe/Berlin:20241104T200000
DTSTAMP:20260425T134357
CREATED:20231105T121224Z
LAST-MODIFIED:20231105T121346Z
UID:10006198-1730746800-1730750400@www.universum-gym.com
SUMMARY:Frauen Boxen
DESCRIPTION:
URL:https://www.universum-gym.com/event/frauen-boxen-2/2024-11-04/
CATEGORIES:Boxing
END:VEVENT
BEGIN:VEVENT
DTSTART;TZID=Europe/Berlin:20241105T170000
DTEND;TZID=Europe/Berlin:20241105T180000
DTSTAMP:20260425T134357
CREATED:20230927T071439Z
LAST-MODIFIED:20231105T115531Z
UID:10001113-1730826000-1730829600@www.universum-gym.com
SUMMARY:Amateur Boxen
DESCRIPTION:Wettkämpfer
URL:https://www.universum-gym.com/event/amateur-boxen-jugendliche-und-elite-2/2024-11-05/
CATEGORIES:Boxing
END:VEVENT
BEGIN:VEVENT
DTSTART;TZID=Europe/Berlin:20241105T180000
DTEND;TZID=Europe/Berlin:20241105T190000
DTSTAMP:20260425T134357
CREATED:20231105T121524Z
LAST-MODIFIED:20231105T121844Z
UID:10006722-1730829600-1730833200@www.universum-gym.com
SUMMARY:Boxen Technik/Taktik Training
DESCRIPTION:
URL:https://www.universum-gym.com/event/boxen-technik-taktik-training/2024-11-05/
CATEGORIES:Boxing
END:VEVENT
BEGIN:VEVENT
DTSTART;TZID=Europe/Berlin:20241106T170000
DTEND;TZID=Europe/Berlin:20241106T180000
DTSTAMP:20260425T134357
CREATED:20230927T065500Z
LAST-MODIFIED:20230927T071151Z
UID:10001638-1730912400-1730916000@www.universum-gym.com
SUMMARY:Kinder Boxen
DESCRIPTION:“Anfänger”
URL:https://www.universum-gym.com/event/kinder-boxen-anfaenger/2024-11-06/
CATEGORIES:Boxing
END:VEVENT
BEGIN:VEVENT
DTSTART;TZID=Europe/Berlin:20241106T180000
DTEND;TZID=Europe/Berlin:20241106T190000
DTSTAMP:20260425T134357
CREATED:20231105T120154Z
LAST-MODIFIED:20231105T120627Z
UID:10005069-1730916000-1730919600@www.universum-gym.com
SUMMARY:Männer Fitness Boxen
DESCRIPTION:
URL:https://www.universum-gym.com/event/fitness-boxen-3/2024-11-06/
CATEGORIES:Boxing
END:VEVENT
BEGIN:VEVENT
DTSTART;TZID=Europe/Berlin:20241106T190000
DTEND;TZID=Europe/Berlin:20241106T200000
DTSTAMP:20260425T134357
CREATED:20231105T121224Z
LAST-MODIFIED:20231105T121346Z
UID:10006199-1730919600-1730923200@www.universum-gym.com
SUMMARY:Frauen Boxen
DESCRIPTION:
URL:https://www.universum-gym.com/event/frauen-boxen-2/2024-11-06/
CATEGORIES:Boxing
END:VEVENT
BEGIN:VEVENT
DTSTART;TZID=Europe/Berlin:20241107T170000
DTEND;TZID=Europe/Berlin:20241107T180000
DTSTAMP:20260425T134357
CREATED:20230927T071439Z
LAST-MODIFIED:20231105T115531Z
UID:10002687-1730998800-1731002400@www.universum-gym.com
SUMMARY:Amateur Boxen
DESCRIPTION:Wettkämpfer
URL:https://www.universum-gym.com/event/amateur-boxen-jugendliche-und-elite-2/2024-11-07/
CATEGORIES:Boxing
END:VEVENT
BEGIN:VEVENT
DTSTART;TZID=Europe/Berlin:20241107T180000
DTEND;TZID=Europe/Berlin:20241107T190000
DTSTAMP:20260425T134357
CREATED:20231105T121524Z
LAST-MODIFIED:20231105T121844Z
UID:10006723-1731002400-1731006000@www.universum-gym.com
SUMMARY:Boxen Technik/Taktik Training
DESCRIPTION:
URL:https://www.universum-gym.com/event/boxen-technik-taktik-training/2024-11-07/
CATEGORIES:Boxing
END:VEVENT
BEGIN:VEVENT
DTSTART;TZID=Europe/Berlin:20241108T170000
DTEND;TZID=Europe/Berlin:20241108T180000
DTSTAMP:20260425T134357
CREATED:20231105T121647Z
LAST-MODIFIED:20231105T121647Z
UID:10007193-1731085200-1731088800@www.universum-gym.com
SUMMARY:Männer Zirkeltraining
DESCRIPTION:
URL:https://www.universum-gym.com/event/maenner-zirkeltraining/2024-11-08/
CATEGORIES:Kurse
END:VEVENT
BEGIN:VEVENT
DTSTART;TZID=Europe/Berlin:20241108T180000
DTEND;TZID=Europe/Berlin:20241108T190000
DTSTAMP:20260425T134357
CREATED:20231105T121747Z
LAST-MODIFIED:20231105T121747Z
UID:10007455-1731088800-1731092400@www.universum-gym.com
SUMMARY:Frauen Zirkeltraining
DESCRIPTION:
URL:https://www.universum-gym.com/event/frauen-zirkeltraining/2024-11-08/
CATEGORIES:Kurse
END:VEVENT
BEGIN:VEVENT
DTSTART;TZID=Europe/Berlin:20241109T103000
DTEND;TZID=Europe/Berlin:20241109T113000
DTSTAMP:20260425T134357
CREATED:20230927T071831Z
LAST-MODIFIED:20230927T071831Z
UID:10004253-1731148200-1731151800@www.universum-gym.com
SUMMARY:Amateur Boxen / Sparring
DESCRIPTION:
URL:https://www.universum-gym.com/event/amateur-boxen-sparring/2024-11-09/
CATEGORIES:Boxing
END:VEVENT
END:VCALENDAR