BEGIN:VCALENDAR
VERSION:2.0
PRODID:-//Universum Gym - ECPv6.2.8.1//NONSGML v1.0//EN
CALSCALE:GREGORIAN
METHOD:PUBLISH
X-WR-CALNAME:Universum Gym
X-ORIGINAL-URL:https://www.universum-gym.com
X-WR-CALDESC:Veranstaltungen für Universum Gym
REFRESH-INTERVAL;VALUE=DURATION:PT1H
X-Robots-Tag:noindex
X-PUBLISHED-TTL:PT1H
BEGIN:VTIMEZONE
TZID:Europe/Berlin
BEGIN:DAYLIGHT
TZOFFSETFROM:+0100
TZOFFSETTO:+0200
TZNAME:CEST
DTSTART:20240331T010000
END:DAYLIGHT
BEGIN:STANDARD
TZOFFSETFROM:+0200
TZOFFSETTO:+0100
TZNAME:CET
DTSTART:20241027T010000
END:STANDARD
END:VTIMEZONE
BEGIN:VEVENT
DTSTART;TZID=Europe/Berlin:20241014T170000
DTEND;TZID=Europe/Berlin:20241014T180000
DTSTAMP:20260425T172214
CREATED:20230927T065500Z
LAST-MODIFIED:20230927T071151Z
UID:10000061-1728925200-1728928800@www.universum-gym.com
SUMMARY:Kinder Boxen
DESCRIPTION:“Anfänger”
URL:https://www.universum-gym.com/event/kinder-boxen-anfaenger/2024-10-14/
CATEGORIES:Boxing
END:VEVENT
BEGIN:VEVENT
DTSTART;TZID=Europe/Berlin:20241014T180000
DTEND;TZID=Europe/Berlin:20241014T190000
DTSTAMP:20260425T172214
CREATED:20231105T120154Z
LAST-MODIFIED:20231105T120627Z
UID:10005339-1728928800-1728932400@www.universum-gym.com
SUMMARY:Männer Fitness Boxen
DESCRIPTION:
URL:https://www.universum-gym.com/event/fitness-boxen-3/2024-10-14/
CATEGORIES:Boxing
END:VEVENT
BEGIN:VEVENT
DTSTART;TZID=Europe/Berlin:20241014T190000
DTEND;TZID=Europe/Berlin:20241014T200000
DTSTAMP:20260425T172214
CREATED:20231105T121224Z
LAST-MODIFIED:20231105T121346Z
UID:10006192-1728932400-1728936000@www.universum-gym.com
SUMMARY:Frauen Boxen
DESCRIPTION:
URL:https://www.universum-gym.com/event/frauen-boxen-2/2024-10-14/
CATEGORIES:Boxing
END:VEVENT
BEGIN:VEVENT
DTSTART;TZID=Europe/Berlin:20241015T170000
DTEND;TZID=Europe/Berlin:20241015T180000
DTSTAMP:20260425T172214
CREATED:20230927T071439Z
LAST-MODIFIED:20231105T115531Z
UID:10001110-1729011600-1729015200@www.universum-gym.com
SUMMARY:Amateur Boxen
DESCRIPTION:Wettkämpfer
URL:https://www.universum-gym.com/event/amateur-boxen-jugendliche-und-elite-2/2024-10-15/
CATEGORIES:Boxing
END:VEVENT
BEGIN:VEVENT
DTSTART;TZID=Europe/Berlin:20241015T180000
DTEND;TZID=Europe/Berlin:20241015T190000
DTSTAMP:20260425T172214
CREATED:20231105T121524Z
LAST-MODIFIED:20231105T121844Z
UID:10006716-1729015200-1729018800@www.universum-gym.com
SUMMARY:Boxen Technik/Taktik Training
DESCRIPTION:
URL:https://www.universum-gym.com/event/boxen-technik-taktik-training/2024-10-15/
CATEGORIES:Boxing
END:VEVENT
BEGIN:VEVENT
DTSTART;TZID=Europe/Berlin:20241016T170000
DTEND;TZID=Europe/Berlin:20241016T180000
DTSTAMP:20260425T172214
CREATED:20230927T065500Z
LAST-MODIFIED:20230927T071151Z
UID:10001635-1729098000-1729101600@www.universum-gym.com
SUMMARY:Kinder Boxen
DESCRIPTION:“Anfänger”
URL:https://www.universum-gym.com/event/kinder-boxen-anfaenger/2024-10-16/
CATEGORIES:Boxing
END:VEVENT
BEGIN:VEVENT
DTSTART;TZID=Europe/Berlin:20241016T180000
DTEND;TZID=Europe/Berlin:20241016T190000
DTSTAMP:20260425T172214
CREATED:20231105T120154Z
LAST-MODIFIED:20231105T120627Z
UID:10005066-1729101600-1729105200@www.universum-gym.com
SUMMARY:Männer Fitness Boxen
DESCRIPTION:
URL:https://www.universum-gym.com/event/fitness-boxen-3/2024-10-16/
CATEGORIES:Boxing
END:VEVENT
BEGIN:VEVENT
DTSTART;TZID=Europe/Berlin:20241016T190000
DTEND;TZID=Europe/Berlin:20241016T200000
DTSTAMP:20260425T172214
CREATED:20231105T121224Z
LAST-MODIFIED:20231105T121346Z
UID:10006193-1729105200-1729108800@www.universum-gym.com
SUMMARY:Frauen Boxen
DESCRIPTION:
URL:https://www.universum-gym.com/event/frauen-boxen-2/2024-10-16/
CATEGORIES:Boxing
END:VEVENT
BEGIN:VEVENT
DTSTART;TZID=Europe/Berlin:20241017T170000
DTEND;TZID=Europe/Berlin:20241017T180000
DTSTAMP:20260425T172214
CREATED:20230927T071439Z
LAST-MODIFIED:20231105T115531Z
UID:10002684-1729184400-1729188000@www.universum-gym.com
SUMMARY:Amateur Boxen
DESCRIPTION:Wettkämpfer
URL:https://www.universum-gym.com/event/amateur-boxen-jugendliche-und-elite-2/2024-10-17/
CATEGORIES:Boxing
END:VEVENT
BEGIN:VEVENT
DTSTART;TZID=Europe/Berlin:20241017T180000
DTEND;TZID=Europe/Berlin:20241017T190000
DTSTAMP:20260425T172214
CREATED:20231105T121524Z
LAST-MODIFIED:20231105T121844Z
UID:10006717-1729188000-1729191600@www.universum-gym.com
SUMMARY:Boxen Technik/Taktik Training
DESCRIPTION:
URL:https://www.universum-gym.com/event/boxen-technik-taktik-training/2024-10-17/
CATEGORIES:Boxing
END:VEVENT
BEGIN:VEVENT
DTSTART;TZID=Europe/Berlin:20241018T170000
DTEND;TZID=Europe/Berlin:20241018T180000
DTSTAMP:20260425T172214
CREATED:20231105T121647Z
LAST-MODIFIED:20231105T121647Z
UID:10007190-1729270800-1729274400@www.universum-gym.com
SUMMARY:Männer Zirkeltraining
DESCRIPTION:
URL:https://www.universum-gym.com/event/maenner-zirkeltraining/2024-10-18/
CATEGORIES:Kurse
END:VEVENT
BEGIN:VEVENT
DTSTART;TZID=Europe/Berlin:20241018T180000
DTEND;TZID=Europe/Berlin:20241018T190000
DTSTAMP:20260425T172214
CREATED:20231105T121747Z
LAST-MODIFIED:20231105T121747Z
UID:10007452-1729274400-1729278000@www.universum-gym.com
SUMMARY:Frauen Zirkeltraining
DESCRIPTION:
URL:https://www.universum-gym.com/event/frauen-zirkeltraining/2024-10-18/
CATEGORIES:Kurse
END:VEVENT
BEGIN:VEVENT
DTSTART;TZID=Europe/Berlin:20241019T103000
DTEND;TZID=Europe/Berlin:20241019T113000
DTSTAMP:20260425T172214
CREATED:20230927T071831Z
LAST-MODIFIED:20230927T071831Z
UID:10004250-1729333800-1729337400@www.universum-gym.com
SUMMARY:Amateur Boxen / Sparring
DESCRIPTION:
URL:https://www.universum-gym.com/event/amateur-boxen-sparring/2024-10-19/
CATEGORIES:Boxing
END:VEVENT
END:VCALENDAR