BEGIN:VCALENDAR
VERSION:2.0
PRODID:-//Universum Gym - ECPv6.2.8.1//NONSGML v1.0//EN
CALSCALE:GREGORIAN
METHOD:PUBLISH
X-WR-CALNAME:Universum Gym
X-ORIGINAL-URL:https://www.universum-gym.com
X-WR-CALDESC:Veranstaltungen für Universum Gym
REFRESH-INTERVAL;VALUE=DURATION:PT1H
X-Robots-Tag:noindex
X-PUBLISHED-TTL:PT1H
BEGIN:VTIMEZONE
TZID:Europe/Berlin
BEGIN:DAYLIGHT
TZOFFSETFROM:+0100
TZOFFSETTO:+0200
TZNAME:CEST
DTSTART:20240331T010000
END:DAYLIGHT
BEGIN:STANDARD
TZOFFSETFROM:+0200
TZOFFSETTO:+0100
TZNAME:CET
DTSTART:20241027T010000
END:STANDARD
END:VTIMEZONE
BEGIN:VEVENT
DTSTART;TZID=Europe/Berlin:20240923T170000
DTEND;TZID=Europe/Berlin:20240923T180000
DTSTAMP:20260425T223725
CREATED:20230927T065500Z
LAST-MODIFIED:20230927T071151Z
UID:10000058-1727110800-1727114400@www.universum-gym.com
SUMMARY:Kinder Boxen
DESCRIPTION:“Anfänger”
URL:https://www.universum-gym.com/event/kinder-boxen-anfaenger/2024-09-23/
CATEGORIES:Boxing
END:VEVENT
BEGIN:VEVENT
DTSTART;TZID=Europe/Berlin:20240923T180000
DTEND;TZID=Europe/Berlin:20240923T190000
DTSTAMP:20260425T223725
CREATED:20231105T120154Z
LAST-MODIFIED:20231105T120627Z
UID:10005336-1727114400-1727118000@www.universum-gym.com
SUMMARY:Männer Fitness Boxen
DESCRIPTION:
URL:https://www.universum-gym.com/event/fitness-boxen-3/2024-09-23/
CATEGORIES:Boxing
END:VEVENT
BEGIN:VEVENT
DTSTART;TZID=Europe/Berlin:20240923T190000
DTEND;TZID=Europe/Berlin:20240923T200000
DTSTAMP:20260425T223725
CREATED:20231105T121224Z
LAST-MODIFIED:20231105T121346Z
UID:10006186-1727118000-1727121600@www.universum-gym.com
SUMMARY:Frauen Boxen
DESCRIPTION:
URL:https://www.universum-gym.com/event/frauen-boxen-2/2024-09-23/
CATEGORIES:Boxing
END:VEVENT
BEGIN:VEVENT
DTSTART;TZID=Europe/Berlin:20240924T170000
DTEND;TZID=Europe/Berlin:20240924T180000
DTSTAMP:20260425T223725
CREATED:20230927T071439Z
LAST-MODIFIED:20231105T115531Z
UID:10001107-1727197200-1727200800@www.universum-gym.com
SUMMARY:Amateur Boxen
DESCRIPTION:Wettkämpfer
URL:https://www.universum-gym.com/event/amateur-boxen-jugendliche-und-elite-2/2024-09-24/
CATEGORIES:Boxing
END:VEVENT
BEGIN:VEVENT
DTSTART;TZID=Europe/Berlin:20240924T180000
DTEND;TZID=Europe/Berlin:20240924T190000
DTSTAMP:20260425T223725
CREATED:20231105T121524Z
LAST-MODIFIED:20231105T121844Z
UID:10006710-1727200800-1727204400@www.universum-gym.com
SUMMARY:Boxen Technik/Taktik Training
DESCRIPTION:
URL:https://www.universum-gym.com/event/boxen-technik-taktik-training/2024-09-24/
CATEGORIES:Boxing
END:VEVENT
BEGIN:VEVENT
DTSTART;TZID=Europe/Berlin:20240925T170000
DTEND;TZID=Europe/Berlin:20240925T180000
DTSTAMP:20260425T223725
CREATED:20230927T065500Z
LAST-MODIFIED:20230927T071151Z
UID:10001632-1727283600-1727287200@www.universum-gym.com
SUMMARY:Kinder Boxen
DESCRIPTION:“Anfänger”
URL:https://www.universum-gym.com/event/kinder-boxen-anfaenger/2024-09-25/
CATEGORIES:Boxing
END:VEVENT
BEGIN:VEVENT
DTSTART;TZID=Europe/Berlin:20240925T180000
DTEND;TZID=Europe/Berlin:20240925T190000
DTSTAMP:20260425T223725
CREATED:20231105T120154Z
LAST-MODIFIED:20231105T120627Z
UID:10005063-1727287200-1727290800@www.universum-gym.com
SUMMARY:Männer Fitness Boxen
DESCRIPTION:
URL:https://www.universum-gym.com/event/fitness-boxen-3/2024-09-25/
CATEGORIES:Boxing
END:VEVENT
BEGIN:VEVENT
DTSTART;TZID=Europe/Berlin:20240925T190000
DTEND;TZID=Europe/Berlin:20240925T200000
DTSTAMP:20260425T223725
CREATED:20231105T121224Z
LAST-MODIFIED:20231105T121346Z
UID:10006187-1727290800-1727294400@www.universum-gym.com
SUMMARY:Frauen Boxen
DESCRIPTION:
URL:https://www.universum-gym.com/event/frauen-boxen-2/2024-09-25/
CATEGORIES:Boxing
END:VEVENT
BEGIN:VEVENT
DTSTART;TZID=Europe/Berlin:20240926T170000
DTEND;TZID=Europe/Berlin:20240926T180000
DTSTAMP:20260425T223725
CREATED:20230927T071439Z
LAST-MODIFIED:20231105T115531Z
UID:10002681-1727370000-1727373600@www.universum-gym.com
SUMMARY:Amateur Boxen
DESCRIPTION:Wettkämpfer
URL:https://www.universum-gym.com/event/amateur-boxen-jugendliche-und-elite-2/2024-09-26/
CATEGORIES:Boxing
END:VEVENT
BEGIN:VEVENT
DTSTART;TZID=Europe/Berlin:20240926T180000
DTEND;TZID=Europe/Berlin:20240926T190000
DTSTAMP:20260425T223725
CREATED:20231105T121524Z
LAST-MODIFIED:20231105T121844Z
UID:10006711-1727373600-1727377200@www.universum-gym.com
SUMMARY:Boxen Technik/Taktik Training
DESCRIPTION:
URL:https://www.universum-gym.com/event/boxen-technik-taktik-training/2024-09-26/
CATEGORIES:Boxing
END:VEVENT
BEGIN:VEVENT
DTSTART;TZID=Europe/Berlin:20240927T170000
DTEND;TZID=Europe/Berlin:20240927T180000
DTSTAMP:20260425T223725
CREATED:20231105T121647Z
LAST-MODIFIED:20231105T121647Z
UID:10007187-1727456400-1727460000@www.universum-gym.com
SUMMARY:Männer Zirkeltraining
DESCRIPTION:
URL:https://www.universum-gym.com/event/maenner-zirkeltraining/2024-09-27/
CATEGORIES:Kurse
END:VEVENT
BEGIN:VEVENT
DTSTART;TZID=Europe/Berlin:20240927T180000
DTEND;TZID=Europe/Berlin:20240927T190000
DTSTAMP:20260425T223725
CREATED:20231105T121747Z
LAST-MODIFIED:20231105T121747Z
UID:10007449-1727460000-1727463600@www.universum-gym.com
SUMMARY:Frauen Zirkeltraining
DESCRIPTION:
URL:https://www.universum-gym.com/event/frauen-zirkeltraining/2024-09-27/
CATEGORIES:Kurse
END:VEVENT
BEGIN:VEVENT
DTSTART;TZID=Europe/Berlin:20240928T103000
DTEND;TZID=Europe/Berlin:20240928T113000
DTSTAMP:20260425T223725
CREATED:20230927T071831Z
LAST-MODIFIED:20230927T071831Z
UID:10004247-1727519400-1727523000@www.universum-gym.com
SUMMARY:Amateur Boxen / Sparring
DESCRIPTION:
URL:https://www.universum-gym.com/event/amateur-boxen-sparring/2024-09-28/
CATEGORIES:Boxing
END:VEVENT
END:VCALENDAR