BEGIN:VCALENDAR
VERSION:2.0
PRODID:-//Universum Gym - ECPv6.2.8.1//NONSGML v1.0//EN
CALSCALE:GREGORIAN
METHOD:PUBLISH
X-ORIGINAL-URL:https://www.universum-gym.com
X-WR-CALDESC:Veranstaltungen für Universum Gym
REFRESH-INTERVAL;VALUE=DURATION:PT1H
X-Robots-Tag:noindex
X-PUBLISHED-TTL:PT1H
BEGIN:VTIMEZONE
TZID:Europe/Berlin
BEGIN:DAYLIGHT
TZOFFSETFROM:+0100
TZOFFSETTO:+0200
TZNAME:CEST
DTSTART:20240331T010000
END:DAYLIGHT
BEGIN:STANDARD
TZOFFSETFROM:+0200
TZOFFSETTO:+0100
TZNAME:CET
DTSTART:20241027T010000
END:STANDARD
END:VTIMEZONE
BEGIN:VEVENT
DTSTART;TZID=Europe/Berlin:20240909T170000
DTEND;TZID=Europe/Berlin:20240909T180000
DTSTAMP:20260426T023308
CREATED:20230927T065500Z
LAST-MODIFIED:20230927T071151Z
UID:10000056-1725901200-1725904800@www.universum-gym.com
SUMMARY:Kinder Boxen
DESCRIPTION:“Anfänger”
URL:https://www.universum-gym.com/event/kinder-boxen-anfaenger/2024-09-09/
CATEGORIES:Boxing
END:VEVENT
BEGIN:VEVENT
DTSTART;TZID=Europe/Berlin:20240909T180000
DTEND;TZID=Europe/Berlin:20240909T190000
DTSTAMP:20260426T023308
CREATED:20231105T120154Z
LAST-MODIFIED:20231105T120627Z
UID:10005334-1725904800-1725908400@www.universum-gym.com
SUMMARY:Männer Fitness Boxen
DESCRIPTION:
URL:https://www.universum-gym.com/event/fitness-boxen-3/2024-09-09/
CATEGORIES:Boxing
END:VEVENT
BEGIN:VEVENT
DTSTART;TZID=Europe/Berlin:20240909T190000
DTEND;TZID=Europe/Berlin:20240909T200000
DTSTAMP:20260426T023308
CREATED:20231105T121224Z
LAST-MODIFIED:20231105T121346Z
UID:10006182-1725908400-1725912000@www.universum-gym.com
SUMMARY:Frauen Boxen
DESCRIPTION:
URL:https://www.universum-gym.com/event/frauen-boxen-2/2024-09-09/
CATEGORIES:Boxing
END:VEVENT
BEGIN:VEVENT
DTSTART;TZID=Europe/Berlin:20240910T170000
DTEND;TZID=Europe/Berlin:20240910T180000
DTSTAMP:20260426T023308
CREATED:20230927T071439Z
LAST-MODIFIED:20231105T115531Z
UID:10001105-1725987600-1725991200@www.universum-gym.com
SUMMARY:Amateur Boxen
DESCRIPTION:Wettkämpfer
URL:https://www.universum-gym.com/event/amateur-boxen-jugendliche-und-elite-2/2024-09-10/
CATEGORIES:Boxing
END:VEVENT
BEGIN:VEVENT
DTSTART;TZID=Europe/Berlin:20240910T180000
DTEND;TZID=Europe/Berlin:20240910T190000
DTSTAMP:20260426T023308
CREATED:20231105T121524Z
LAST-MODIFIED:20231105T121844Z
UID:10006706-1725991200-1725994800@www.universum-gym.com
SUMMARY:Boxen Technik/Taktik Training
DESCRIPTION:
URL:https://www.universum-gym.com/event/boxen-technik-taktik-training/2024-09-10/
CATEGORIES:Boxing
END:VEVENT
BEGIN:VEVENT
DTSTART;TZID=Europe/Berlin:20240911T170000
DTEND;TZID=Europe/Berlin:20240911T180000
DTSTAMP:20260426T023308
CREATED:20230927T065500Z
LAST-MODIFIED:20230927T071151Z
UID:10001630-1726074000-1726077600@www.universum-gym.com
SUMMARY:Kinder Boxen
DESCRIPTION:“Anfänger”
URL:https://www.universum-gym.com/event/kinder-boxen-anfaenger/2024-09-11/
CATEGORIES:Boxing
END:VEVENT
BEGIN:VEVENT
DTSTART;TZID=Europe/Berlin:20240911T180000
DTEND;TZID=Europe/Berlin:20240911T190000
DTSTAMP:20260426T023308
CREATED:20231105T120154Z
LAST-MODIFIED:20231105T120627Z
UID:10005061-1726077600-1726081200@www.universum-gym.com
SUMMARY:Männer Fitness Boxen
DESCRIPTION:
URL:https://www.universum-gym.com/event/fitness-boxen-3/2024-09-11/
CATEGORIES:Boxing
END:VEVENT
BEGIN:VEVENT
DTSTART;TZID=Europe/Berlin:20240911T190000
DTEND;TZID=Europe/Berlin:20240911T200000
DTSTAMP:20260426T023308
CREATED:20231105T121224Z
LAST-MODIFIED:20231105T121346Z
UID:10006183-1726081200-1726084800@www.universum-gym.com
SUMMARY:Frauen Boxen
DESCRIPTION:
URL:https://www.universum-gym.com/event/frauen-boxen-2/2024-09-11/
CATEGORIES:Boxing
END:VEVENT
BEGIN:VEVENT
DTSTART;TZID=Europe/Berlin:20240912T170000
DTEND;TZID=Europe/Berlin:20240912T180000
DTSTAMP:20260426T023308
CREATED:20230927T071439Z
LAST-MODIFIED:20231105T115531Z
UID:10002679-1726160400-1726164000@www.universum-gym.com
SUMMARY:Amateur Boxen
DESCRIPTION:Wettkämpfer
URL:https://www.universum-gym.com/event/amateur-boxen-jugendliche-und-elite-2/2024-09-12/
CATEGORIES:Boxing
END:VEVENT
BEGIN:VEVENT
DTSTART;TZID=Europe/Berlin:20240912T180000
DTEND;TZID=Europe/Berlin:20240912T190000
DTSTAMP:20260426T023308
CREATED:20231105T121524Z
LAST-MODIFIED:20231105T121844Z
UID:10006707-1726164000-1726167600@www.universum-gym.com
SUMMARY:Boxen Technik/Taktik Training
DESCRIPTION:
URL:https://www.universum-gym.com/event/boxen-technik-taktik-training/2024-09-12/
CATEGORIES:Boxing
END:VEVENT
BEGIN:VEVENT
DTSTART;TZID=Europe/Berlin:20240913T170000
DTEND;TZID=Europe/Berlin:20240913T180000
DTSTAMP:20260426T023308
CREATED:20231105T121647Z
LAST-MODIFIED:20231105T121647Z
UID:10007185-1726246800-1726250400@www.universum-gym.com
SUMMARY:Männer Zirkeltraining
DESCRIPTION:
URL:https://www.universum-gym.com/event/maenner-zirkeltraining/2024-09-13/
CATEGORIES:Kurse
END:VEVENT
BEGIN:VEVENT
DTSTART;TZID=Europe/Berlin:20240913T180000
DTEND;TZID=Europe/Berlin:20240913T190000
DTSTAMP:20260426T023308
CREATED:20231105T121747Z
LAST-MODIFIED:20231105T121747Z
UID:10007447-1726250400-1726254000@www.universum-gym.com
SUMMARY:Frauen Zirkeltraining
DESCRIPTION:
URL:https://www.universum-gym.com/event/frauen-zirkeltraining/2024-09-13/
CATEGORIES:Kurse
END:VEVENT
BEGIN:VEVENT
DTSTART;TZID=Europe/Berlin:20240914T103000
DTEND;TZID=Europe/Berlin:20240914T113000
DTSTAMP:20260426T023308
CREATED:20230927T071831Z
LAST-MODIFIED:20230927T071831Z
UID:10004245-1726309800-1726313400@www.universum-gym.com
SUMMARY:Amateur Boxen / Sparring
DESCRIPTION:
URL:https://www.universum-gym.com/event/amateur-boxen-sparring/2024-09-14/
CATEGORIES:Boxing
END:VEVENT
END:VCALENDAR