BEGIN:VCALENDAR
VERSION:2.0
PRODID:-//Universum Gym - ECPv6.2.8.1//NONSGML v1.0//EN
CALSCALE:GREGORIAN
METHOD:PUBLISH
X-WR-CALNAME:Universum Gym
X-ORIGINAL-URL:https://www.universum-gym.com
X-WR-CALDESC:Veranstaltungen für Universum Gym
REFRESH-INTERVAL;VALUE=DURATION:PT1H
X-Robots-Tag:noindex
X-PUBLISHED-TTL:PT1H
BEGIN:VTIMEZONE
TZID:Europe/Berlin
BEGIN:DAYLIGHT
TZOFFSETFROM:+0100
TZOFFSETTO:+0200
TZNAME:CEST
DTSTART:20240331T010000
END:DAYLIGHT
BEGIN:STANDARD
TZOFFSETFROM:+0200
TZOFFSETTO:+0100
TZNAME:CET
DTSTART:20241027T010000
END:STANDARD
END:VTIMEZONE
BEGIN:VEVENT
DTSTART;TZID=Europe/Berlin:20240923T170000
DTEND;TZID=Europe/Berlin:20240923T180000
DTSTAMP:20260425T204741
CREATED:20230927T065500Z
LAST-MODIFIED:20230927T071151Z
UID:10000058-1727110800-1727114400@www.universum-gym.com
SUMMARY:Kinder Boxen
DESCRIPTION:“Anfänger”
URL:https://www.universum-gym.com/event/kinder-boxen-anfaenger/2024-09-23/
CATEGORIES:Boxing
END:VEVENT
BEGIN:VEVENT
DTSTART;TZID=Europe/Berlin:20240923T180000
DTEND;TZID=Europe/Berlin:20240923T190000
DTSTAMP:20260425T204741
CREATED:20231105T120154Z
LAST-MODIFIED:20231105T120627Z
UID:10005336-1727114400-1727118000@www.universum-gym.com
SUMMARY:Männer Fitness Boxen
DESCRIPTION:
URL:https://www.universum-gym.com/event/fitness-boxen-3/2024-09-23/
CATEGORIES:Boxing
END:VEVENT
BEGIN:VEVENT
DTSTART;TZID=Europe/Berlin:20240923T190000
DTEND;TZID=Europe/Berlin:20240923T200000
DTSTAMP:20260425T204741
CREATED:20231105T121224Z
LAST-MODIFIED:20231105T121346Z
UID:10006186-1727118000-1727121600@www.universum-gym.com
SUMMARY:Frauen Boxen
DESCRIPTION:
URL:https://www.universum-gym.com/event/frauen-boxen-2/2024-09-23/
CATEGORIES:Boxing
END:VEVENT
END:VCALENDAR